BEGIN:VCALENDAR
VERSION:2.0
PRODID:-//wp-events-plugin.com//7.2.3.1//EN
TZID:Europe/Paris
X-WR-TIMEZONE:Europe/Paris
BEGIN:VEVENT
UID:604@bananierbleu.fr
DTSTART;TZID=Europe/Paris:20130917T193000
DTEND;TZID=Europe/Paris:20130917T193000
DTSTAMP:20130907T093800Z
URL:https://bananierbleu.fr/concerts-test/rony-olanor/
SUMMARY:Rony Olanor - le Baiser Salé - 17 Sep 13 19:30
DESCRIPTION:Rony OLANOR en Trio - Autour de "la fusion".\nLaurent-Emmanuel 
 "Tilo" Bertholo batterie\,\nYoan Zebina basse\, Rony Olanor lead piano/cla
 vier.\nAprès quelques dates à succès cet été\, Rony démarre une rés
 idence avec son trio. Chaque soirée le répertoire d'un pianiste ou clavi
 ériste de jazz sera mise à l’honneur \, ainsi qu’u thème musical! S
 a fraicheur et son dynamisme n’en finiront pas de vous époustoufler !
CATEGORIES:Concerts en France
LOCATION:le Baiser Salé\, 58\, rue des Lombards\, Paris\, Île de France\,
  75001\, IleDeFrance\, France
GEO:48.8598;2.34791
X-APPLE-STRUCTURED-LOCATION;VALUE=URI;X-ADDRESS=58\, rue des Lombards\, Par
 is\, Île de France\, 75001\, IleDeFrance\, France;X-APPLE-RADIUS=100;X-TI
 TLE=le Baiser Salé:geo:48.8598,2.34791
END:VEVENT
BEGIN:VTIMEZONE
TZID:Europe/Paris
X-LIC-LOCATION:Europe/Paris
BEGIN:DAYLIGHT
DTSTART:20130331T030000
TZOFFSETFROM:+0100
TZOFFSETTO:+0200
TZNAME:CEST
END:DAYLIGHT
END:VTIMEZONE
END:VCALENDAR