BEGIN:VCALENDAR
VERSION:2.0
PRODID:-//wp-events-plugin.com//7.2.3.1//EN
TZID:Europe/Paris
X-WR-TIMEZONE:Europe/Paris
BEGIN:VEVENT
UID:2416@bananierbleu.fr
DTSTART;TZID=Europe/Paris:20171018T000000
DTEND;TZID=Europe/Paris:20171018T000000
DTSTAMP:20171017T081752Z
URL:https://bananierbleu.fr/concerts-test/rudy-francis/
SUMMARY:Rudy Francis - New Ti'Paris - 18 Oct 17 00:00
DESCRIPTION:Rudy FRANCIS est un pianiste - accompagnateur hors paire\, il a
  travaillé avec Patrick ST ELOI\, Tania ST VAL\, ORLANE\, Lydia BARLAGNE 
 … la liste est longue ! Il est aussi un spécialiste de la musique cubai
 ne. En 2009\, il obtient son diplôme d'harmonie moderne au Conservatoire 
 de La ville de SANTIAGO à CUBA. Un chaleureux et bon moment musical vous 
 attend\, vous découvrirez un répertoire jazz caribéen adapté pour le p
 iano ou la mélodie reste une priorité capitale soutenue d’un lyrisme d
 oux et apaisant\, un rendez-vous à ne ma manquer !
ATTACH;FMTTYPE=image/jpeg:https://bananierbleu.fr/wp-content/uploads/2017/
 07/NewTiParis2017_concert.jpg
CATEGORIES:Concerts en Guadeloupe
LOCATION:New Ti'Paris\, Perinet\, Le Gosier\, Guadeloupe\, 97190\, Guadelou
 pe\, Guadeloupe
GEO:16.2077962;-61.48492470000002
X-APPLE-STRUCTURED-LOCATION;VALUE=URI;X-ADDRESS=Perinet\, Le Gosier\, Guade
 loupe\, 97190\, Guadeloupe\, Guadeloupe;X-APPLE-RADIUS=100;X-TITLE=New Ti'
 Paris:geo:16.2077962,-61.48492470000002
END:VEVENT
BEGIN:VTIMEZONE
TZID:Europe/Paris
X-LIC-LOCATION:Europe/Paris
BEGIN:DAYLIGHT
DTSTART:20170326T030000
TZOFFSETFROM:+0100
TZOFFSETTO:+0200
TZNAME:CEST
END:DAYLIGHT
END:VTIMEZONE
END:VCALENDAR