BEGIN:VCALENDAR
VERSION:2.0
PRODID:-//wp-events-plugin.com//7.2.3.1//EN
TZID:Europe/Paris
X-WR-TIMEZONE:Europe/Paris
BEGIN:VEVENT
UID:3906@bananierbleu.fr
DTSTART;TZID=America/Guadeloupe:20250227T203000
DTEND;TZID=America/Guadeloupe:20250227T203000
DTSTAMP:20250220T153057Z
URL:https://bananierbleu.fr/concerts-test/rudy-levalois-4tet-4/
SUMMARY:Rudy Levalois 4tet - La Créole Jazz Club - 27 Fév 25 20:30
DESCRIPTION:Répertoire instrumental. Jazz\, swing\, standards américains 
 et caribéens revisités\nRudy Levalois / guitareNsémi Ngo Boni / pianoJo
 seph Cazimir / batteriePatrice Hughes / basse
ATTACH;FMTTYPE=image/jpeg:https://bananierbleu.fr/wp-content/uploads/2025/
 02/RudyLevalois4tet.jpg
CATEGORIES:Concerts en Guadeloupe
LOCATION:La Créole Jazz Club\, Pointe de la Verdure\, Le Gosier\, Guadelou
 pe\, 97190\, Guadeloupe\, Guadeloupe
GEO:16.206832;-61.50359980000002
X-APPLE-STRUCTURED-LOCATION;VALUE=URI;X-ADDRESS=Pointe de la Verdure\, Le G
 osier\, Guadeloupe\, 97190\, Guadeloupe\, Guadeloupe;X-APPLE-RADIUS=100;X-
 TITLE=La Créole Jazz Club:geo:16.206832,-61.50359980000002
END:VEVENT
BEGIN:VTIMEZONE
TZID:America/Guadeloupe
X-LIC-LOCATION:America/Guadeloupe
BEGIN:STANDARD
DTSTART:20240228T203000
TZOFFSETFROM:-0400
TZOFFSETTO:-0400
TZNAME:AST
END:STANDARD
END:VTIMEZONE
END:VCALENDAR