BEGIN:VCALENDAR
VERSION:2.0
PRODID:-//wp-events-plugin.com//7.2.3.1//EN
TZID:Europe/Paris
X-WR-TIMEZONE:Europe/Paris
BEGIN:VEVENT
UID:533@bananierbleu.fr
DTSTART;TZID=Europe/Paris:20130517T210000
DTEND;TZID=Europe/Paris:20130517T210000
DTSTAMP:20130516T121541Z
URL:https://bananierbleu.fr/concerts-test/sarahysha-4tet/
SUMMARY:Sarahysha 4tet - la Cerise - 17 Mai 13 21:00
DESCRIPTION:Brasil fusion\, avec Sarahysha (vcls)\, Marc Chillet (g)\, Nico
  Greiner (perc) & Steve Sautron (b)
LOCATION:la Cerise\, 1 rue Eugène Dayot\, Saint Paul\, la Réunion\, 97460
 \, LaRéunion\, Réunion
GEO:-21.0071034;55.27251720000004
X-APPLE-STRUCTURED-LOCATION;VALUE=URI;X-ADDRESS=1 rue Eugène Dayot\, Saint
  Paul\, la Réunion\, 97460\, LaRéunion\, Réunion;X-APPLE-RADIUS=100;X-T
 ITLE=la Cerise:geo:-21.0071034,55.27251720000004
END:VEVENT
BEGIN:VTIMEZONE
TZID:Europe/Paris
X-LIC-LOCATION:Europe/Paris
BEGIN:DAYLIGHT
DTSTART:20130331T030000
TZOFFSETFROM:+0100
TZOFFSETTO:+0200
TZNAME:CEST
END:DAYLIGHT
END:VTIMEZONE
END:VCALENDAR