BEGIN:VCALENDAR
VERSION:2.0
PRODID:-//wp-events-plugin.com//7.2.3.1//EN
TZID:Europe/Paris
X-WR-TIMEZONE:Europe/Paris
BEGIN:VEVENT
UID:2055@bananierbleu.fr
DTSTART;TZID=Europe/Paris:20170105T210000
DTEND;TZID=Europe/Paris:20170105T210000
DTSTAMP:20161220T111024Z
URL:https://bananierbleu.fr/concerts-test/savannah-mujik/
SUMMARY:Savannah Mujik - Le JAM - 5 Jan 17 21:00
DESCRIPTION:Caribbean Jazz &amp\; Percussions - Tony Savannah réunit son S
 avannah Mujik\, avec Cyrille Calonne\, Baptiste Gendre\, Cédric Chauveau\
 , Yvon Rosillette\, Stéphane Damet\, Jordi Lucile et Enzo Tozoni
ATTACH;FMTTYPE=image/jpeg:https://bananierbleu.fr/wp-content/uploads/2016/
 12/Savannah.jpg
CATEGORIES:Concerts en France
LOCATION:Le JAM\, 100 rue Ferdinand de Lesseps\, Montpellier\, Occitanie\, 
 34000\, Occitanie\, France
GEO:43.5936252;3.8783366000000115
X-APPLE-STRUCTURED-LOCATION;VALUE=URI;X-ADDRESS=100 rue Ferdinand de Lessep
 s\, Montpellier\, Occitanie\, 34000\, Occitanie\, France;X-APPLE-RADIUS=10
 0;X-TITLE=Le JAM:geo:43.5936252,3.8783366000000115
END:VEVENT
BEGIN:VTIMEZONE
TZID:Europe/Paris
X-LIC-LOCATION:Europe/Paris
BEGIN:STANDARD
DTSTART:20161030T020000
TZOFFSETFROM:+0200
TZOFFSETTO:+0100
TZNAME:CET
END:STANDARD
END:VTIMEZONE
END:VCALENDAR