BEGIN:VCALENDAR
VERSION:2.0
PRODID:-//wp-events-plugin.com//7.2.3.1//EN
TZID:Europe/Paris
X-WR-TIMEZONE:Europe/Paris
BEGIN:VEVENT
UID:3281@bananierbleu.fr
DTSTART;TZID=Europe/Paris:20220121T203000
DTEND;TZID=Europe/Paris:20220121T203000
DTSTAMP:20220119T123731Z
URL:https://bananierbleu.fr/concerts-test/selene-saint-aime/
SUMMARY:Sélène Saint-Aimé - Centre Gérard Philipe - 21 Jan 22 20:30
DESCRIPTION:On a marché sur la lune.\n\nUne étoile est apparue dans la ga
 laxie du jazz français : Sélène Saint-Aimé\, dont le prénom en réfé
 rence à la déesse de la pleine lune dans la mythologie grecque s’avèr
 e prédestiné. « Comme je suis née après terme\, mes parents m’ont d
 it qu’ils savaient que j’allais être dans la lune\, c’est pour cela
  qu’ils m’ont donné ce prénom ». Époustouflée par un concert d’
 Avishai Cohen\, Sélène a un coup de foudre pour la contrebasse. Repéré
 e par le saxophoniste Steve Coleman\, qui la prend vite sous son aile (« 
 Viens\, traîne\, regarde »)\, elle déploie un répertoire personnel qui
  fascine par son originalité et sa poésie. Pour son premier album\, Mare
  Undarum\, « mer des ondes » en latin\, Sélène s’est tournée vers S
 onny Troupé et son tambour ka\, Irving Acao au saxophone ténor\, Hermon 
 Mehari à la trompette\, Guillaume Latil au violoncelle et Mathias Lévy a
 u violon. Un parfait mélange entre chaleur et douceur qui laisse deviner 
 ses influences et origines caribéennes et africaines. Un concert pour la 
 face cachée de la nuit.\n\n« Ce que j’aime\, c'est que ma musique se g
 orge de souvenirs et d’émotions. » Sélène Saint-Aimé
ATTACH;FMTTYPE=image/jpeg:https://bananierbleu.fr/wp-content/uploads/2020/
 09/Mare-Undarum_Selene-Saint-Aime.jpg
CATEGORIES:Concerts en France
LOCATION:Centre Gérard Philipe\, 450 rue Auguste Rodin\, Calais\, Hauts-de
 -France\, 62100\, HautsDeFrance\, France
X-APPLE-STRUCTURED-LOCATION;VALUE=URI;X-ADDRESS=450 rue Auguste Rodin\, Cal
 ais\, Hauts-de-France\, 62100\, HautsDeFrance\, France;X-APPLE-RADIUS=100;
 X-TITLE=Centre Gérard Philipe:geo:0,0
END:VEVENT
BEGIN:VTIMEZONE
TZID:Europe/Paris
X-LIC-LOCATION:Europe/Paris
BEGIN:STANDARD
DTSTART:20211031T020000
TZOFFSETFROM:+0200
TZOFFSETTO:+0100
TZNAME:CET
END:STANDARD
END:VTIMEZONE
END:VCALENDAR