BEGIN:VCALENDAR
VERSION:2.0
PRODID:-//wp-events-plugin.com//7.2.3.1//EN
TZID:Europe/Paris
X-WR-TIMEZONE:Europe/Paris
BEGIN:VEVENT
UID:2177@bananierbleu.fr
DTSTART;TZID=Europe/Paris:20170516T193000
DTEND;TZID=Europe/Paris:20170516T193000
DTSTAMP:20170329T115133Z
URL:https://bananierbleu.fr/concerts-test/selkies/
SUMMARY:Selkies - Sunside - 16 Mai 17 19:30
DESCRIPTION:Nirina Rakotomavo – clavier\, voix \; Céline Boudier – voi
 x\, petites percussions \; Cynthia Abraham – voix\, percussions \; Swaé
 li Mbappé - basse \; Ismaël Nobour - batterie\n\nAnimées par le partage
  de la musique\, Selkies est la rencontre de 3 musiciennes chanteuses à l
 a recherche d’un nouveau son chanté. Associant jazz\, musiques improvis
 ées et chanson\, ce projet élabore la voix sous tous ses aspects\, d’a
 bord dans l’harmonisation de 3 voix (Nirina Rakotomavo\, Céline Boudier
  &amp\; Cynthia Abraham) puis dans le jeu de l’improvisation.
ATTACH;FMTTYPE=image/jpeg:https://bananierbleu.fr/wp-content/uploads/2017/
 03/selkies.jpeg
CATEGORIES:Concerts en France
LOCATION:Sunside\, 60\, rue des Lombards\, Paris\, Île de France\, 75001\,
  IleDeFrance\, France
GEO:48.859937;2.347751
X-APPLE-STRUCTURED-LOCATION;VALUE=URI;X-ADDRESS=60\, rue des Lombards\, Par
 is\, Île de France\, 75001\, IleDeFrance\, France;X-APPLE-RADIUS=100;X-TI
 TLE=Sunside:geo:48.859937,2.347751
END:VEVENT
BEGIN:VTIMEZONE
TZID:Europe/Paris
X-LIC-LOCATION:Europe/Paris
BEGIN:DAYLIGHT
DTSTART:20170326T030000
TZOFFSETFROM:+0100
TZOFFSETTO:+0200
TZNAME:CEST
END:DAYLIGHT
END:VTIMEZONE
END:VCALENDAR