BEGIN:VCALENDAR
VERSION:2.0
PRODID:-//wp-events-plugin.com//7.2.3.1//EN
TZID:Europe/Paris
X-WR-TIMEZONE:Europe/Paris
BEGIN:VEVENT
UID:2369@bananierbleu.fr
DTSTART;TZID=Europe/Paris:20171012T200000
DTEND;TZID=Europe/Paris:20171012T200000
DTSTAMP:20170907T093852Z
URL:https://bananierbleu.fr/concerts-test/sonny-troupe-gregory-privat-duo-
 luminescence/
SUMMARY:Sonny Troupé & Grégory Privat - Duo Luminescence - Théâtre Muni
 cipal de Perpignan - 12 Oct 17 20:00
DESCRIPTION:Dans le cadre du festival Jazzèbre
ATTACH;FMTTYPE=image/jpeg:https://bananierbleu.fr/wp-content/uploads/2015/
 09/Luminescence250.jpg
CATEGORIES:Concerts en France
LOCATION:Théâtre Municipal de Perpignan\, 4-5 rue de la République\, Per
 pignan\, 66000\, Occitanie\, France
GEO:42.6986905;2.8902771000000484
X-APPLE-STRUCTURED-LOCATION;VALUE=URI;X-ADDRESS=4-5 rue de la République\,
  Perpignan\, 66000\, Occitanie\, France;X-APPLE-RADIUS=100;X-TITLE=Théât
 re Municipal de Perpignan:geo:42.6986905,2.8902771000000484
END:VEVENT
BEGIN:VTIMEZONE
TZID:Europe/Paris
X-LIC-LOCATION:Europe/Paris
BEGIN:DAYLIGHT
DTSTART:20170326T030000
TZOFFSETFROM:+0100
TZOFFSETTO:+0200
TZNAME:CEST
END:DAYLIGHT
END:VTIMEZONE
END:VCALENDAR