BEGIN:VCALENDAR
VERSION:2.0
PRODID:-//wp-events-plugin.com//7.2.3.1//EN
TZID:Europe/Paris
X-WR-TIMEZONE:Europe/Paris
BEGIN:VEVENT
UID:470@bananierbleu.fr
DTSTART;TZID=Europe/Paris:20130616T180000
DTEND;TZID=Europe/Paris:20130616T180000
DTSTAMP:20130323T163344Z
URL:https://bananierbleu.fr/concerts-test/sonny-troupe-nouvo-lokans/
SUMMARY:Sonny Troupé - Nouvo Lokans - Prairie des Filtres - 16 Juin 13 18:
 00
DESCRIPTION:Dans le cadre du festival Rio Loco\nAvec Zagalo : lead vocal \;
  Christian Laviso : Guitare \; Sylvain Joseph : Sax alto \; Mano Falla : B
 asse \; Arnaud Dolmen : tambour ka\, batterie \; Sonny Troupé : direction
  artistique\, tambour ka\, batterie
CATEGORIES:Concerts en France
LOCATION:Prairie des Filtres\, Cours Dillon\, Toulouse\, 31000\, France
GEO:43.59520910000001;1.436002300000041
X-APPLE-STRUCTURED-LOCATION;VALUE=URI;X-ADDRESS=Cours Dillon\, Toulouse\, 3
 1000\, France;X-APPLE-RADIUS=100;X-TITLE=Prairie des Filtres:geo:43.595209
 10000001,1.436002300000041
END:VEVENT
BEGIN:VTIMEZONE
TZID:Europe/Paris
X-LIC-LOCATION:Europe/Paris
BEGIN:DAYLIGHT
DTSTART:20130331T030000
TZOFFSETFROM:+0100
TZOFFSETTO:+0200
TZNAME:CEST
END:DAYLIGHT
END:VTIMEZONE
END:VCALENDAR