BEGIN:VCALENDAR
VERSION:2.0
PRODID:-//wp-events-plugin.com//7.2.3.1//EN
TZID:Europe/Paris
X-WR-TIMEZONE:Europe/Paris
BEGIN:VEVENT
UID:3262@bananierbleu.fr
DTSTART;TZID=Europe/Paris:20220121T213000
DTEND;TZID=Europe/Paris:20220121T234500
DTSTAMP:20220112T152117Z
URL:https://bananierbleu.fr/concerts-test/sonny-troupe-quartet-add-2-7/
SUMMARY:SONNY TROUPÉ QUARTET ADD 2 - le Baiser Salé - 21 Jan 22 21:30
DESCRIPTION:LÉONARDO MONTANA piano\nMIKE ARMOOGUM basse\nRAPHAËL PHILIBER
 T sax alto/sampler\nTHOMAS KOENIG sax ténor/flûte\nANDY BÉRALD tambour 
 ka\nSONNY TROUPÉ batterie/tambour ka/sampler\n\n"A la croisée du jazz et
  du gwoka\, le batteur et percussionniste ponctue les palpitations du tamb
 our traditionnel guadeloupéen d'échos soul\, électro et de samples vari
 és. Deux saxophonistes (Thomas Koenig et Raphaël Philibert) se joignent 
 à ce quartet en fusion (…) »\, Télérama\n\nAu rendez-vous\, profonde
 ur mélodique\, rythmique et fusion gwo ka / jazz.\nAvec « reflets denses
  »\, on reconnait le jazz qui accompagne Sonny depuis tout petit : Max Ro
 ach\, Art Blakey et ceux avec qui il a échangé\, comme Kenny Garrett et 
 Lisa Simone. Son arrivée à Paris au tournant des années 2000 le plonge 
 dans le funk\, le R&amp\;B\, l’électro ou encore le métal. Tout ça r
 ésonne dans ses productions : métissage artistique\, trip parsemé de sa
 mples et citations qui interrogent en creux son identité.\nD’origine br
 ésilienne et globe-trotter du jazz\, Leonardo Montana est certainement un
  des pianistes français les plus appréciés (Felipé Cabrera\, Naissam J
 alal\, Anne Pacéo\, Omara Portuando…) de par la finesse\, le rythme et 
 le lyrisme de son jeu. Musiciens aux influences multiples et aux gouts éc
 lectiques\, Mike Armoogum s’est notamment produit aux côtés de Jerry L
 eonide\, Boney Fields ou Tino Gonzales et Andy Bérald au sein du Big Band
  de Christophe Dal Sasso ou encore avec Jacques Schwarz-Bart.\n\nhttps://w
 ww.youtube.com/watch?v=K198CYp1LCM
ATTACH;FMTTYPE=image/jpeg:https://bananierbleu.fr/wp-content/uploads/2022/
 01/Sonny4tet_concert.jpg
CATEGORIES:Concerts en France
LOCATION:le Baiser Salé\, 58\, rue des Lombards\, Paris\, Île de France\,
  75001\, IleDeFrance\, France
GEO:48.8598;2.34791
X-APPLE-STRUCTURED-LOCATION;VALUE=URI;X-ADDRESS=58\, rue des Lombards\, Par
 is\, Île de France\, 75001\, IleDeFrance\, France;X-APPLE-RADIUS=100;X-TI
 TLE=le Baiser Salé:geo:48.8598,2.34791
END:VEVENT
BEGIN:VTIMEZONE
TZID:Europe/Paris
X-LIC-LOCATION:Europe/Paris
BEGIN:STANDARD
DTSTART:20211031T020000
TZOFFSETFROM:+0200
TZOFFSETTO:+0100
TZNAME:CET
END:STANDARD
END:VTIMEZONE
END:VCALENDAR