BEGIN:VCALENDAR
VERSION:2.0
PRODID:-//wp-events-plugin.com//7.2.3.1//EN
TZID:Europe/Paris
X-WR-TIMEZONE:Europe/Paris
BEGIN:VEVENT
UID:598@bananierbleu.fr
DTSTART;TZID=Europe/Paris:20131006T203000
DTEND;TZID=Europe/Paris:20131006T203000
DTSTAMP:20130906T083619Z
URL:https://bananierbleu.fr/concerts-test/sonny-troupe-quartet-featuring-g
 regory-privat/
SUMMARY:Sonny Troupé Quartet featuring Gregory Privat -  - 6 Oct 13 20:30
DESCRIPTION:Pour la sortie de l’album “Voyages et rêves” chez Musica
 st\nConcert à 20h30 – Entrée 20/18 euros\nSonny Troupé – batterie\,
  tambour ka \; Grégory Privat – piano \; Mike Armoogum – basse \; Arn
 aud Dolmen – tambour ka\, chacha\nSonny Troupé présente « Voyages et 
 Rêves ». Mieux qu’une banale carte de visite\, il s’agit d’une car
 te d’embarquement vers un univers aux frontières des nombreux styles qu
 i composent la personnalité du batteur guadeloupéen. (Gwo ka\, jazz\, é
 lectro\, métal…)
CATEGORIES:Concerts en France
LOCATION:\, \, 
X-APPLE-STRUCTURED-LOCATION;VALUE=URI;X-ADDRESS=\, ;X-APPLE-RADIUS=100;X-TI
 TLE=:geo:0,0
END:VEVENT
BEGIN:VTIMEZONE
TZID:Europe/Paris
X-LIC-LOCATION:Europe/Paris
BEGIN:DAYLIGHT
DTSTART:20130331T030000
TZOFFSETFROM:+0100
TZOFFSETTO:+0200
TZNAME:CEST
END:DAYLIGHT
END:VTIMEZONE
END:VCALENDAR