BEGIN:VCALENDAR
VERSION:2.0
PRODID:-//wp-events-plugin.com//7.2.3.1//EN
TZID:Europe/Paris
X-WR-TIMEZONE:Europe/Paris
BEGIN:VEVENT
UID:3800@bananierbleu.fr
DTSTART;TZID=Europe/Paris:20240510T210000
DTEND;TZID=Europe/Paris:20240510T210000
DTSTAMP:20240325T164825Z
URL:https://bananierbleu.fr/concerts-test/sonny-troupe-romance-live-4/
SUMMARY:Sonny Troupé Romance Live - le Baiser Salé - 10 Mai 24 21:00
DESCRIPTION:\n\nSONNY TROUPÉ batterie/tambou ka\nXAVIER BELIN piano\nTHOMA
 S KOENIG flûte/sax tenor\nJOCELYN MENARD sax tenor/flûte\nSTEPHANE CASTR
 Y basse\n\n\nUne histoire en musique issue de la demande du réalisateur g
 uyanais Stéphane Floricien pour composer et réaliser la musique de son p
 rochain film « 2SK – 2 semaines Krono ».\n\nSuite à la lecture du sc
 énario de « 2SK – 2 semaines Krono »\, Sonny Troupé lui suggère que
  les personnages principaux soient représentés par des instruments\, et 
 que chacun ait sa mélodie.\nDe la sont nées des compositions originales\
 , qui sont venues compléter un album\, pour construire une histoire en mu
 sique\, sans paroles\, indépendante du film… Une Romance. « Romance Li
 ve » est la déclinaison en concert du dernier opus en date de Sonny Trou
 pé intitulé « Romance ».
ATTACH;FMTTYPE=image/jpeg:https://bananierbleu.fr/wp-content/uploads/2024/
 03/789-sonny-site.jpg
CATEGORIES:Concerts en France
LOCATION:le Baiser Salé\, 58\, rue des Lombards\, Paris\, Île de France\,
  75001\, IleDeFrance\, France
GEO:48.8598;2.34791
X-APPLE-STRUCTURED-LOCATION;VALUE=URI;X-ADDRESS=58\, rue des Lombards\, Par
 is\, Île de France\, 75001\, IleDeFrance\, France;X-APPLE-RADIUS=100;X-TI
 TLE=le Baiser Salé:geo:48.8598,2.34791
END:VEVENT
BEGIN:VTIMEZONE
TZID:Europe/Paris
X-LIC-LOCATION:Europe/Paris
BEGIN:DAYLIGHT
DTSTART:20240331T030000
TZOFFSETFROM:+0100
TZOFFSETTO:+0200
TZNAME:CEST
END:DAYLIGHT
END:VTIMEZONE
END:VCALENDAR