BEGIN:VCALENDAR
VERSION:2.0
PRODID:-//wp-events-plugin.com//7.2.3.1//EN
TZID:Europe/Paris
X-WR-TIMEZONE:Europe/Paris
BEGIN:VEVENT
UID:2368@bananierbleu.fr
DTSTART;TZID=Europe/Paris:20171014T210000
DTEND;TZID=Europe/Paris:20171014T210000
DTSTAMP:20170907T092331Z
URL:https://bananierbleu.fr/concerts-test/sonny-troupe-septet-reflets-dens
 es/
SUMMARY:Sonny Troupé septet - Reflets Denses - Sunset - 14 Oct 17 21:00
DESCRIPTION:Sonny TROUPÉ « Reflets Denses » Septet\nFestival Jazz sur Se
 ine 2017\nGrégory Privat - piano\, clavier\, voix \; Raphaël Philibert -
  saxophone alto \; Thomas Koenig - saxophone ténor \; Mike Armoogum - bas
 se\, voix \; Olivier Juste\, Arnaud Dolmen - tambour ka\, voix\, chacha \;
  Sonny Troupé - batterie\, voix\, tambour ka\, sampler\n\n\nLa volonté d
 e continuer à faire voyager ses auditeurs\, voici la promesse de Sonny Tr
 oupé pour son 3e album "Reflets Denses" Accompagné une nouvelle fois par
  les spécialistes de la fusion jazz / gwo ka\, déjà présents sur l'alb
 um Voyages &amp\; Rêves (2013) : Grégory Privat au piano\, Mike Armoogum
  à la basse et Olivier Juste / Arnaud Dolmen au tambour ka.&nbsp\;Pour ce
 t album composé de 10 titres\, Sonny Troupé continue sur sa ligne du gwo
  ka traditionnel fusionné au gwo ka moderne\, savamment mêlés à ses in
 fluences jazz\, éléctro ou encore métal. Préparez vous pour un nouveau
  voyage.\n\n
ATTACH;FMTTYPE=image/jpeg:https://bananierbleu.fr/wp-content/uploads/2017/
 05/Sonny_concert.jpg
CATEGORIES:Concerts en France
LOCATION:Sunset\, 60 rue des Lombards\, Paris\, Île de France\, 75001\, Il
 eDeFrance\, France
GEO:48.859937;2.347751
X-APPLE-STRUCTURED-LOCATION;VALUE=URI;X-ADDRESS=60 rue des Lombards\, Paris
 \, Île de France\, 75001\, IleDeFrance\, France;X-APPLE-RADIUS=100;X-TITL
 E=Sunset:geo:48.859937,2.347751
END:VEVENT
BEGIN:VTIMEZONE
TZID:Europe/Paris
X-LIC-LOCATION:Europe/Paris
BEGIN:DAYLIGHT
DTSTART:20170326T030000
TZOFFSETFROM:+0100
TZOFFSETTO:+0200
TZNAME:CEST
END:DAYLIGHT
END:VTIMEZONE
END:VCALENDAR