BEGIN:VCALENDAR
VERSION:2.0
PRODID:-//wp-events-plugin.com//7.2.3.1//EN
TZID:Europe/Paris
X-WR-TIMEZONE:Europe/Paris
BEGIN:VEVENT
UID:2373@bananierbleu.fr
DTSTART;TZID=Europe/Paris:20171120T200000
DTEND;TZID=Europe/Paris:20171120T200000
DTSTAMP:20170907T100503Z
URL:https://bananierbleu.fr/concerts-test/sonny-troupe-solo/
SUMMARY:Sonny Troupé solo - Théâtre Gérard Philipe - 20 Nov 17 20:00
DESCRIPTION:Solo batterie et ka\n\nEn 1ère&nbsp\;partie de Jasser Haj Yous
 sef.
ATTACH;FMTTYPE=image/jpeg:https://bananierbleu.fr/wp-content/uploads/2017/
 05/Sonny_concert.jpg
CATEGORIES:Concerts en France
LOCATION:Théâtre Gérard Philipe\, 59 boulevard Jules Guesde\, Saint Deni
 s\, 93200\, France
GEO:48.9382173;2.350099699999987
X-APPLE-STRUCTURED-LOCATION;VALUE=URI;X-ADDRESS=59 boulevard Jules Guesde\,
  Saint Denis\, 93200\, France;X-APPLE-RADIUS=100;X-TITLE=Théâtre Gérard
  Philipe:geo:48.9382173,2.350099699999987
END:VEVENT
BEGIN:VTIMEZONE
TZID:Europe/Paris
X-LIC-LOCATION:Europe/Paris
BEGIN:STANDARD
DTSTART:20171029T020000
TZOFFSETFROM:+0200
TZOFFSETTO:+0100
TZNAME:CET
END:STANDARD
END:VTIMEZONE
END:VCALENDAR