BEGIN:VCALENDAR
VERSION:2.0
PRODID:-//wp-events-plugin.com//7.2.3.1//EN
TZID:Europe/Paris
X-WR-TIMEZONE:Europe/Paris
BEGIN:VEVENT
UID:443@bananierbleu.fr
DTSTART;TZID=Europe/Paris:20130413T213000
DTEND;TZID=Europe/Paris:20130413T213000
DTSTAMP:20130322T090122Z
URL:https://bananierbleu.fr/concerts-test/sonny-troupe-sortie-de-lalbum-vo
 yages-et-reves-2/
SUMMARY:Sonny Troupé - sortie de l'album "Voyages et Rêves" - le Baiser S
 alé - 13 Avr 13 21:30
DESCRIPTION:Avec Grégory Privat (piano)\, Mike Armoogum (basse\, voix)\, A
 rnaud Dolmen (tambour ka\, chacha\, voix)\, Olivier Juste (tambour ka\, ch
 acha\, voix) et Sonny Troupé (batterie\, tambour ka\, samples\, voix)
CATEGORIES:Concerts en France
LOCATION:le Baiser Salé\, 58\, rue des Lombards\, Paris\, Île de France\,
  75001\, IleDeFrance\, France
GEO:48.8598;2.34791
X-APPLE-STRUCTURED-LOCATION;VALUE=URI;X-ADDRESS=58\, rue des Lombards\, Par
 is\, Île de France\, 75001\, IleDeFrance\, France;X-APPLE-RADIUS=100;X-TI
 TLE=le Baiser Salé:geo:48.8598,2.34791
END:VEVENT
BEGIN:VTIMEZONE
TZID:Europe/Paris
X-LIC-LOCATION:Europe/Paris
BEGIN:DAYLIGHT
DTSTART:20130331T030000
TZOFFSETFROM:+0100
TZOFFSETTO:+0200
TZNAME:CEST
END:DAYLIGHT
END:VTIMEZONE
END:VCALENDAR