BEGIN:VCALENDAR
VERSION:2.0
PRODID:-//wp-events-plugin.com//7.2.3.1//EN
TZID:Europe/Paris
X-WR-TIMEZONE:Europe/Paris
BEGIN:VEVENT
UID:465@bananierbleu.fr
DTSTART;TZID=Europe/Paris:20130531T200000
DTEND;TZID=Europe/Paris:20130531T200000
DTSTAMP:20130323T162536Z
URL:https://bananierbleu.fr/concerts-test/sonny-troupe-sortie-de-lalbum-vo
 yages-et-reves-7/
SUMMARY:Sonny Troupé - sortie de l'album "Voyages et Rêves" -  - 31 Mai 1
 3 20:00
DESCRIPTION:Avec Grégory Privat (piano)\, Mike Armoogum (basse\, voix)\, A
 rnaud Dolmen (tambour ka\, chacha\, voix)\, Olivier Juste (tambour ka\, ch
 acha\, voix) et Sonny Troupé (batterie\, tambour ka\, samples\, voix)
CATEGORIES:Concerts en Guadeloupe
LOCATION:\, \, 
X-APPLE-STRUCTURED-LOCATION;VALUE=URI;X-ADDRESS=\, ;X-APPLE-RADIUS=100;X-TI
 TLE=:geo:0,0
END:VEVENT
BEGIN:VTIMEZONE
TZID:Europe/Paris
X-LIC-LOCATION:Europe/Paris
BEGIN:DAYLIGHT
DTSTART:20130331T030000
TZOFFSETFROM:+0100
TZOFFSETTO:+0200
TZNAME:CEST
END:DAYLIGHT
END:VTIMEZONE
END:VCALENDAR