BEGIN:VCALENDAR
VERSION:2.0
PRODID:-//wp-events-plugin.com//7.2.3.1//EN
TZID:Europe/Paris
X-WR-TIMEZONE:Europe/Paris
BEGIN:VEVENT
UID:467@bananierbleu.fr
DTSTART;TZID=Europe/Paris:20130605T190000
DTEND;TZID=Europe/Paris:20130605T190000
DTSTAMP:20130603T171854Z
URL:https://bananierbleu.fr/concerts-test/sonny-troupe-sortie-de-lalbum-vo
 yages-et-reves-9/
SUMMARY:Sonny Troupé - sortie de l'album "Voyages et Rêves" - l'Artchipel
  - 5 Juin 13 19:00
DESCRIPTION:Avec Grégory Privat (piano)\, Mike Armoogum (basse\, voix)\, A
 rnaud Dolmen (tambour ka\, chacha\, voix)\, Olivier Juste (tambour ka\, ch
 acha\, voix) et Sonny Troupé (batterie\, tambour ka\, samples\, voix)
CATEGORIES:Concerts en Guadeloupe
LOCATION:l'Artchipel\, bd Félix Eboué\, Basse Terre\, Guadeloupe\, 97100\
 , Guadeloupe\, Guadeloupe
GEO:16.193018;-61.592883
X-APPLE-STRUCTURED-LOCATION;VALUE=URI;X-ADDRESS=bd Félix Eboué\, Basse Te
 rre\, Guadeloupe\, 97100\, Guadeloupe\, Guadeloupe;X-APPLE-RADIUS=100;X-TI
 TLE=l'Artchipel:geo:16.193018,-61.592883
END:VEVENT
BEGIN:VTIMEZONE
TZID:Europe/Paris
X-LIC-LOCATION:Europe/Paris
BEGIN:DAYLIGHT
DTSTART:20130331T030000
TZOFFSETFROM:+0100
TZOFFSETTO:+0200
TZNAME:CEST
END:DAYLIGHT
END:VTIMEZONE
END:VCALENDAR