BEGIN:VCALENDAR
VERSION:2.0
PRODID:-//wp-events-plugin.com//7.2.3.1//EN
TZID:Europe/Paris
X-WR-TIMEZONE:Europe/Paris
BEGIN:VEVENT
UID:3893@bananierbleu.fr
DTSTART;TZID=America/Guadeloupe:20250123T193000
DTEND;TZID=America/Guadeloupe:20250123T193000
DTSTAMP:20250123T123228Z
URL:https://bananierbleu.fr/concerts-test/sonny-troupe-trio/
SUMMARY:Sonny Troupé Trio - Habitation Desmarais - 23 Jan 25 19:30
DESCRIPTION:\nJean Michel Lesdel : piano\nStéphane Castry : basse\nSonny T
 roupé : batterie\n
ATTACH;FMTTYPE=image/jpeg:https://bananierbleu.fr/wp-content/uploads/2025/
 01/SonnyTrio.jpg
CATEGORIES:Concerts en Guadeloupe
LOCATION:Habitation Desmarais\, Route de l'Ancienne Distillerie\, Basse Ter
 re\, Guadeloupe\, 97100\, Guadeloupe\, Guadeloupe
X-APPLE-STRUCTURED-LOCATION;VALUE=URI;X-ADDRESS=Route de l'Ancienne Distill
 erie\, Basse Terre\, Guadeloupe\, 97100\, Guadeloupe\, Guadeloupe;X-APPLE-
 RADIUS=100;X-TITLE=Habitation Desmarais:geo:0,0
END:VEVENT
BEGIN:VTIMEZONE
TZID:America/Guadeloupe
X-LIC-LOCATION:America/Guadeloupe
BEGIN:STANDARD
DTSTART:20240124T193000
TZOFFSETFROM:-0400
TZOFFSETTO:-0400
TZNAME:AST
END:STANDARD
END:VTIMEZONE
END:VCALENDAR