BEGIN:VCALENDAR
VERSION:2.0
PRODID:-//wp-events-plugin.com//7.2.3.1//EN
TZID:Europe/Paris
X-WR-TIMEZONE:Europe/Paris
BEGIN:VEVENT
UID:2059@bananierbleu.fr
DTSTART;TZID=Europe/Paris:20170113T200000
DTEND;TZID=Europe/Paris:20170113T200000
DTSTAMP:20170104T085309Z
URL:https://bananierbleu.fr/concerts-test/stephane-manga-sortie-de-lalbum-
 muna/
SUMMARY:Stéphane Manga - sortie de l'album Muna - la Boule Noire - 13 Jan 
 17 20:00
DESCRIPTION:En concert live exceptionnel le 13 janvier à la Boule noire (P
 aris)\n\nAu rendez vous: groove\, rythmes\, harmonies\, mélodies \, en co
 mpagnie de ses merveilleux musiciens\n– Baptiste Herbin (sax)\n– Léon
 ardo Montana (piano)\n– Frank Marze Marzettii (batterie)\n– Jonathan B
 aron (guitare)\n– Stephane Manga Bass (bass &amp\; voix)\n\nGuests: Emma
 nuel Pi Djob (The Voice)\, Stephan Dayas-esa- \, Victor Martinel\n\nSTEPHA
 NE MANGA\, Bassiste émérite d’origine camerounaise et chanteur à la v
 oix suave et angélique \, pluridisciplinaire\, auteur compositeur arrange
 ur vous présentera son nouvel album “Muna” . Un album à 360 degrés 
 aux influences Jazz fusion\, Rock\, Afro Latino\n\nhttp://www.laboule-noir
 e.fr/spectacle/stephane-manga/
ATTACH;FMTTYPE=image/jpeg:https://bananierbleu.fr/wp-content/uploads/2017/
 01/StephaneManga.jpg
CATEGORIES:Concerts en France
LOCATION:la Boule Noire\, 118 boulevard Rochechouart\, Paris\, 75018\, Fran
 ce
GEO:48.882226;2.3400758000000224
X-APPLE-STRUCTURED-LOCATION;VALUE=URI;X-ADDRESS=118 boulevard Rochechouart\
 , Paris\, 75018\, France;X-APPLE-RADIUS=100;X-TITLE=la Boule Noire:geo:48.
 882226,2.3400758000000224
END:VEVENT
BEGIN:VTIMEZONE
TZID:Europe/Paris
X-LIC-LOCATION:Europe/Paris
BEGIN:STANDARD
DTSTART:20161030T020000
TZOFFSETFROM:+0200
TZOFFSETTO:+0100
TZNAME:CET
END:STANDARD
END:VTIMEZONE
END:VCALENDAR