BEGIN:VCALENDAR
VERSION:2.0
PRODID:-//wp-events-plugin.com//7.2.3.1//EN
TZID:Europe/Paris
X-WR-TIMEZONE:Europe/Paris
BEGIN:VEVENT
UID:3947@bananierbleu.fr
DTSTART;TZID=America/Martinique:20250516T193000
DTEND;TZID=America/Martinique:20250516T193000
DTSTAMP:20250502T094523Z
URL:https://bananierbleu.fr/concerts-test/sur-les-pas-de-leona/
SUMMARY:Sur les pas de Léona - Tropiques Atrium - scène nationale - 16 Ma
 i 25 19:30
DESCRIPTION:Pascale Pidibi chante Léona Gabriel. Avec Dominique Bérose (k
 eys &amp\; direction musicale)\, Daniel Dantin (dms)\, Pipo Burdy (b) et M
 iky Télèphe (per)
ATTACH;FMTTYPE=image/jpeg:https://bananierbleu.fr/wp-content/uploads/2025/
 05/Leona_Gabriel.jpg
CATEGORIES:Concerts en Martinique
LOCATION:Tropiques Atrium - scène nationale\, 6 rue Jacques Cazotte\, Fort
 -de-France\, Martinique\, 97200\, Martinique\, Martinique
GEO:14.605426;-61.066043
X-APPLE-STRUCTURED-LOCATION;VALUE=URI;X-ADDRESS=6 rue Jacques Cazotte\, For
 t-de-France\, Martinique\, 97200\, Martinique\, Martinique;X-APPLE-RADIUS=
 100;X-TITLE=Tropiques Atrium - scène nationale:geo:14.605426,-61.066043
END:VEVENT
BEGIN:VTIMEZONE
TZID:America/Martinique
X-LIC-LOCATION:America/Martinique
BEGIN:STANDARD
DTSTART:20240516T193000
TZOFFSETFROM:-0400
TZOFFSETTO:-0400
TZNAME:AST
END:STANDARD
END:VTIMEZONE
END:VCALENDAR