BEGIN:VCALENDAR
VERSION:2.0
PRODID:-//wp-events-plugin.com//7.2.3.1//EN
TZID:Europe/Paris
X-WR-TIMEZONE:Europe/Paris
BEGIN:VEVENT
UID:2410@bananierbleu.fr
DTSTART;TZID=Europe/Paris:20171019T190000
DTEND;TZID=Europe/Paris:20171019T190000
DTSTAMP:20171015T104035Z
URL:https://bananierbleu.fr/concerts-test/sylvain-beuf-alain-jean-marie/
SUMMARY:Sylvain Beuf & Alain Jean-Marie - le Baiser Salé - 19 Oct 17 19:00
DESCRIPTION:\n\nNouveau né\, le tête à tête&nbsp\;Sylvain Beuf et Alain
  Jean-Marie a choisi de nous émerveiller dans l’intimité de la formule
  du duo\, terrain de jeu propice à une relecture des compositeurs du jazz
 .&nbsp\;\n\nSylvain Beuf est le plus récompensé et incontournable de nos
  saxophonistes ténor (Victoire de la Musique\, 2 Djangos d'Or\, Talent Mi
 dem) aux 20 ans de carrière écumés avec le who's who du jazz français 
 (Martial Solal\, André Ceccarelli\, Aldo Romano\, les frères Moutin\, Bo
 jan Z\, Manuel Rocheman\,…). Il s'est forgé l'image d'un tranquille et 
 modeste surdoué : compositeur prolixe\, soliste inspiré\, leader à la p
 arfaite maîtrise et aux choix certains.&nbsp\;\n\nAlain Jean-Marie est l
 ’accompagnateur des plus grands\, de Dee Dee Bridgewater à Chet Baker e
 n passant par Max Roach… Ses albums en tant que leader ont gagné de nom
 breux prix et font aujourd’hui figure de classiques. Immense pianiste\,&
 nbsp\;il reste un incontournable de la rue des Lombards. Le Baiser Salé a
 ccueillera le duo dans le cadre d’une résidence les 2ème et 4ème jeud
 i de chaque mois.&nbsp\;\n\n
ATTACH;FMTTYPE=image/jpeg:https://bananierbleu.fr/wp-content/uploads/2017/
 10/860i.jpeg
CATEGORIES:Concerts en France
LOCATION:le Baiser Salé\, 58\, rue des Lombards\, Paris\, Île de France\,
  75001\, IleDeFrance\, France
GEO:48.8598;2.34791
X-APPLE-STRUCTURED-LOCATION;VALUE=URI;X-ADDRESS=58\, rue des Lombards\, Par
 is\, Île de France\, 75001\, IleDeFrance\, France;X-APPLE-RADIUS=100;X-TI
 TLE=le Baiser Salé:geo:48.8598,2.34791
END:VEVENT
BEGIN:VTIMEZONE
TZID:Europe/Paris
X-LIC-LOCATION:Europe/Paris
BEGIN:DAYLIGHT
DTSTART:20170326T030000
TZOFFSETFROM:+0100
TZOFFSETTO:+0200
TZNAME:CEST
END:DAYLIGHT
END:VTIMEZONE
END:VCALENDAR