BEGIN:VCALENDAR
VERSION:2.0
PRODID:-//wp-events-plugin.com//7.2.3.1//EN
TZID:Europe/Paris
X-WR-TIMEZONE:Europe/Paris
BEGIN:VEVENT
UID:3854@bananierbleu.fr
DTSTART;TZID=Europe/Paris:20241205T210000
DTEND;TZID=Europe/Paris:20241205T210000
DTSTAMP:20241123T170513Z
URL:https://bananierbleu.fr/concerts-test/sylvain-ransy-quartet/
SUMMARY:Sylvain Ransy quartet - le Baiser Salé - 5 Déc 24 21:00
DESCRIPTION:\n\n“ Pianiste et compositeur de jazz\, Sylvain Ransy fait vi
 brer les scènes avec son talent unique et son énergie communicative. Iss
 u de la Guadeloupe\, il est profondément influencé par les rythmes carib
 éens\, qu’il mêle habilement à des sonorités jazz\, créant une musi
 que riche en émotions et en couleurs.\nSylvain a collaboré avec des gran
 ds noms comme Alain Jean-Marie\, Jacques Schwartz-Bart\, Franck Nicolas\, 
 Aranud Dolmen\, Linley Marthe\, André Condouant\, Calypso Rose\, Rony Th
 éophile\, Tony Chasseur\, Therry Vaton… tout en développant son propre
  univers musical\, entre jazz moderne et traditions créoles. Son style es
 t à la fois technique et chaleureux\, un savant mélange de groove\, de f
 inesse et de puissance. Toujours souriant et accessible\, Sylvain Ransy ap
 porte une touche rafraîchissante à la scène jazz française et caribée
 nne. Un musicien passionné\, capable de transformer chaque concert en voy
 age musical ! ”\n\n\n 	Sylvain Ransy - piano\n 	Pierre Bernier - sax té
 nor\n 	Samuel F’Hima - contrebasse\n 	Mailo Rakotonanahary - batterie\n\
 n
ATTACH;FMTTYPE=image/jpeg:https://bananierbleu.fr/wp-content/uploads/2024/
 11/SylvainRansy4tet.jpg
CATEGORIES:Concerts en France
LOCATION:le Baiser Salé\, 58\, rue des Lombards\, Paris\, Île de France\,
  75001\, IleDeFrance\, France
GEO:48.8598;2.34791
X-APPLE-STRUCTURED-LOCATION;VALUE=URI;X-ADDRESS=58\, rue des Lombards\, Par
 is\, Île de France\, 75001\, IleDeFrance\, France;X-APPLE-RADIUS=100;X-TI
 TLE=le Baiser Salé:geo:48.8598,2.34791
END:VEVENT
BEGIN:VTIMEZONE
TZID:Europe/Paris
X-LIC-LOCATION:Europe/Paris
BEGIN:STANDARD
DTSTART:20241027T020000
TZOFFSETFROM:+0200
TZOFFSETTO:+0100
TZNAME:CET
END:STANDARD
END:VTIMEZONE
END:VCALENDAR