BEGIN:VCALENDAR
VERSION:2.0
PRODID:-//wp-events-plugin.com//7.2.3.1//EN
TZID:Europe/Paris
X-WR-TIMEZONE:Europe/Paris
BEGIN:VEVENT
UID:546@bananierbleu.fr
DTSTART;TZID=Europe/Paris:20130612T213000
DTEND;TZID=Europe/Paris:20130612T213000
DTSTAMP:20130601T085203Z
URL:https://bananierbleu.fr/concerts-test/the-australians-feat-tricia-evy/
SUMMARY:The Australians feat. Tricia Evy - le Baiser Salé - 12 Juin 13 21:
 30
DESCRIPTION:Dan Barnett voc/trombone\, Tricia Evy voc\,\nBrad Child saxopho
 ne\, Leigh Barker cbasse/piano/batterie\,\nJulie Saury batterie\, Jacques 
 Schneck piano.\nAvant de débuter leur tournée Européenne\, "The Austral
 ian's"\, un groupe composé par la crème des musiciens Australiens\, fait
  une escale à Paris pour une soirée entre Jazz New Orleans et Standards 
 de Jazz. Ils en profitent pour inviter la chanteuse Tricia Evy qui les acc
 ompagnera en Suisse et en Finlande. 
CATEGORIES:Concerts en France
LOCATION:le Baiser Salé\, 58\, rue des Lombards\, Paris\, Île de France\,
  75001\, IleDeFrance\, France
GEO:48.8598;2.34791
X-APPLE-STRUCTURED-LOCATION;VALUE=URI;X-ADDRESS=58\, rue des Lombards\, Par
 is\, Île de France\, 75001\, IleDeFrance\, France;X-APPLE-RADIUS=100;X-TI
 TLE=le Baiser Salé:geo:48.8598,2.34791
END:VEVENT
BEGIN:VTIMEZONE
TZID:Europe/Paris
X-LIC-LOCATION:Europe/Paris
BEGIN:DAYLIGHT
DTSTART:20130331T030000
TZOFFSETFROM:+0100
TZOFFSETTO:+0200
TZNAME:CEST
END:DAYLIGHT
END:VTIMEZONE
END:VCALENDAR