BEGIN:VCALENDAR
VERSION:2.0
PRODID:-//wp-events-plugin.com//7.2.3.1//EN
TZID:Europe/Paris
X-WR-TIMEZONE:Europe/Paris
BEGIN:VEVENT
UID:3131@bananierbleu.fr
DTSTART;TZID=Europe/Paris:20200228T203000
DTEND;TZID=Europe/Paris:20200228T203000
DTSTAMP:20200225T122716Z
URL:https://bananierbleu.fr/concerts-test/the-funky-friday-jam-by-felix-sa
 bal-lecco-tribute-to-george-benson/
SUMMARY:The Funky Friday Jam by Felix Sabal Lecco: Tribute to George Benson
  - la Petite Halle - 28 Fév 20 20:30
DESCRIPTION:Toujours animées par Félix Sabal-Lecco\, batteur caméléon a
 u groove sur-puissant et à l’énergie communicative.\n\n“Féfé” a 
 accompagné de ses baguettes et au chant\, les plus grands noms de la pop 
 (Sting\, Peter Gabriel\, Paul Simon\, Lenny Kravitz)\, de la musique afric
 aine (Manu Dibango\, Youssou Ndour\, Salif Keita) ou encore de la Soul-Fun
 k et du Hip Hop (Prince\, Herbie Hancock\, Sade …).\n\nChaque vendredi\,
  il rendra hommage à un artiste ou label phare de la “Great Black Music
 ” avant de lancer une Jam-Session 100% Groove\, où se retrouveront les 
 meilleurs musiciens de la scène parisienne. Attention risque d’enjaille
 ment élevé !\n\nhttps://www.youtube.com/watch?time_continue=304&amp\;v=P
 URe9Zy8fxY
ATTACH;FMTTYPE=image/jpeg:https://bananierbleu.fr/wp-content/uploads/2020/
 02/FunkyFriday_Sabal-Lecco_Benson.jpg
CATEGORIES:Concerts en France
LOCATION:la Petite Halle\,  Parc de la Villette  211\, av. Jean Jaurès \, 
 Paris\, Île de France\, 75019\, IleDeFrance\, France
GEO:48.8918794;2.3911855999999716
X-APPLE-STRUCTURED-LOCATION;VALUE=URI;X-ADDRESS= Parc de la Villette  211\,
  av. Jean Jaurès \, Paris\, Île de France\, 75019\, IleDeFrance\, France
 ;X-APPLE-RADIUS=100;X-TITLE=la Petite Halle:geo:48.8918794,2.3911855999999
 716
END:VEVENT
BEGIN:VTIMEZONE
TZID:Europe/Paris
X-LIC-LOCATION:Europe/Paris
BEGIN:STANDARD
DTSTART:20191027T020000
TZOFFSETFROM:+0200
TZOFFSETTO:+0100
TZNAME:CET
END:STANDARD
END:VTIMEZONE
END:VCALENDAR