BEGIN:VCALENDAR
VERSION:2.0
PRODID:-//wp-events-plugin.com//7.2.3.1//EN
TZID:Europe/Paris
X-WR-TIMEZONE:Europe/Paris
BEGIN:VEVENT
UID:4059@bananierbleu.fr
DTSTART;TZID=Europe/Paris:20260116T203000
DTEND;TZID=Europe/Paris:20260116T203000
DTSTAMP:20251126T140929Z
URL:https://bananierbleu.fr/concerts-test/the-getdown/
SUMMARY:The Getdown - New Morning - 16 Jan 26 20:30
DESCRIPTION:\n 	Personnel : Arnaud Dolmen (batterie)\, Harold López-Nussa 
 (Fender Rhodes\, piano)\, Laurent Coulondre (orgue Hammond)\, Rolando Luna
  (Fender Rhodes\, piano)\n 	Présentation : The Getdown est un collectif d
 irigé par l’organiste Laurent Coulondre et le batteur Arnaud Dolmen\, r
 éunissant des talents pour un mélange de groove\, funk\, jazz et influen
 ces caribéennes. Leur approche met l’accent sur la connivence et le pla
 isir de jouer ensemble\, s’inspirant notamment de l’esprit joyeux de M
 ichel Petrucciani.\n
ATTACH;FMTTYPE=image/jpeg:https://bananierbleu.fr/wp-content/uploads/2025/
 11/The_Getdown.jpg
CATEGORIES:Concerts en France
LOCATION:New Morning\, 7-9 rue des Petites Ecuries\, Paris\, Île de France
 \, 75010\, IleDeFrance\, France
GEO:48.8732;2.35323
X-APPLE-STRUCTURED-LOCATION;VALUE=URI;X-ADDRESS=7-9 rue des Petites Ecuries
 \, Paris\, Île de France\, 75010\, IleDeFrance\, France;X-APPLE-RADIUS=10
 0;X-TITLE=New Morning:geo:48.8732,2.35323
END:VEVENT
BEGIN:VTIMEZONE
TZID:Europe/Paris
X-LIC-LOCATION:Europe/Paris
BEGIN:STANDARD
DTSTART:20251026T020000
TZOFFSETFROM:+0200
TZOFFSETTO:+0100
TZNAME:CET
END:STANDARD
END:VTIMEZONE
END:VCALENDAR