BEGIN:VCALENDAR
VERSION:2.0
PRODID:-//wp-events-plugin.com//7.2.3.1//EN
TZID:Europe/Paris
X-WR-TIMEZONE:Europe/Paris
BEGIN:VEVENT
UID:569@bananierbleu.fr
DTSTART;TZID=Europe/Paris:20130723T213000
DTEND;TZID=Europe/Paris:20130723T213000
DTSTAMP:20130622T161724Z
URL:https://bananierbleu.fr/concerts-test/thierry-fanfant-2/
SUMMARY:Thierry Fanfant - le Baiser Salé - 23 Juil 13 21:30
DESCRIPTION:Thierry Fanfant basse\, Francis Arnaud batterie\, Vincent Bidal
  piano\, Fred Dupont orgue/clav.\n\nOn le sait\, avec Thierry\, la musique
  se révèle être une histoire de famille et les rythmes\, rudes et puiss
 ants\, restent immortels. Accompagné de ses compères : Francis Arnaud av
 ec ses rythmes principalement orienté jazz-latin\, Vincent Bidal\, médai
 llé d'or en piano jazz du CNR de Metz\, et le jeune clavériste Fred Dupo
 nt \,à l’affut des experimentation teintées funk. C’est un plaisir d
 e découvrir cette rencontre. 
CATEGORIES:Concerts en France
LOCATION:le Baiser Salé\, 58\, rue des Lombards\, Paris\, Île de France\,
  75001\, IleDeFrance\, France
GEO:48.8598;2.34791
X-APPLE-STRUCTURED-LOCATION;VALUE=URI;X-ADDRESS=58\, rue des Lombards\, Par
 is\, Île de France\, 75001\, IleDeFrance\, France;X-APPLE-RADIUS=100;X-TI
 TLE=le Baiser Salé:geo:48.8598,2.34791
END:VEVENT
BEGIN:VTIMEZONE
TZID:Europe/Paris
X-LIC-LOCATION:Europe/Paris
BEGIN:DAYLIGHT
DTSTART:20130331T030000
TZOFFSETFROM:+0100
TZOFFSETTO:+0200
TZNAME:CEST
END:DAYLIGHT
END:VTIMEZONE
END:VCALENDAR