BEGIN:VCALENDAR
VERSION:2.0
PRODID:-//wp-events-plugin.com//7.2.3.1//EN
TZID:Europe/Paris
X-WR-TIMEZONE:Europe/Paris
BEGIN:VEVENT
UID:3937@bananierbleu.fr
DTSTART;TZID=Europe/Paris:20250517T213000
DTEND;TZID=Europe/Paris:20250517T213000
DTSTAMP:20250407T094629Z
URL:https://bananierbleu.fr/concerts-test/thierry-fanfant-6-4-5/
SUMMARY:Thierry Fanfant "6.4" - le Baiser Salé - 17 Mai 25 21:30
DESCRIPTION:Personnel : Andy Berald (batterie\, ka)\, Daniel Gassin (piano)
 \, Laurent Succab (ka)\, Thierry Fanfant (basse\, guitare)\n\nThierry Fanf
 ant présente son album "6.4"\, fusionnant inspirations de voyages et raci
 nes caribéennes. Un retour aux sources avec des rythmes fondateurs de la 
 culture caribéenne\, offrant un voyage musical intense et profond.
ATTACH;FMTTYPE=image/jpeg:https://bananierbleu.fr/wp-content/uploads/2023/
 01/Thierry_Fanfant_Caveau_cr.png
CATEGORIES:Concerts en France
LOCATION:le Baiser Salé\, 58\, rue des Lombards\, Paris\, Île de France\,
  75001\, IleDeFrance\, France
GEO:48.8598;2.34791
X-APPLE-STRUCTURED-LOCATION;VALUE=URI;X-ADDRESS=58\, rue des Lombards\, Par
 is\, Île de France\, 75001\, IleDeFrance\, France;X-APPLE-RADIUS=100;X-TI
 TLE=le Baiser Salé:geo:48.8598,2.34791
END:VEVENT
BEGIN:VTIMEZONE
TZID:Europe/Paris
X-LIC-LOCATION:Europe/Paris
BEGIN:DAYLIGHT
DTSTART:20250330T030000
TZOFFSETFROM:+0100
TZOFFSETTO:+0200
TZNAME:CEST
END:DAYLIGHT
END:VTIMEZONE
END:VCALENDAR