BEGIN:VCALENDAR
VERSION:2.0
PRODID:-//wp-events-plugin.com//7.2.3.1//EN
TZID:Europe/Paris
X-WR-TIMEZONE:Europe/Paris
BEGIN:VEVENT
UID:1517@bananierbleu.fr
DTSTART;TZID=Europe/Paris:20151031T213000
DTEND;TZID=Europe/Paris:20151031T213000
DTSTAMP:20150923T200339Z
URL:https://bananierbleu.fr/concerts-test/thierry-fanfant-david-fackeure-f
 reres-3/
SUMMARY:Thierry Fanfant &amp\; David Fackeure “Frères” - le Baiser Sal
 é - 31 Oct 15 21:30
DESCRIPTION:Carte Blanche à Thierry Fanfant\n\nThierry Fanfant basse\, Dav
 id Fackeure piano\, Thibault Hein sax\, Jean-Marc Robin batterie\n\nLa vie
  est parfois faite de belles rencontres. Certaines sont le fruit du hasard
 \, de la chance\, d'autres sont désirées\, provoquées... Et bien\, cett
 e collaboration est un peu de tout cela. L'album “Frères” est la dém
 onstration de la vitalité\, de la créativité\, de la complémentarité
  que développent les deux compères sur leurs instruments\, avec les mu
 siciens qui les accompagnent. Cette musique du corps et de l'esprit ne lai
 sse jamais insensible\, elle donne envie de bouger\, de méditer ou de rê
 ver\, selon l'ambiance\, évoluant sans cesse entre tension et décontract
 ion. Et cela d'autant plus que les musiciens jouent manifestement avec un 
 plaisir immense\, autant pour eux que pour leur public
ATTACH;FMTTYPE=image/jpeg:https://bananierbleu.fr/wp-content/uploads/2015/
 09/thierry-fanfant-29-30-31-oct.jpg
CATEGORIES:Concerts en France
LOCATION:le Baiser Salé\, 58\, rue des Lombards\, Paris\, Île de France\,
  75001\, IleDeFrance\, France
GEO:48.8598;2.34791
X-APPLE-STRUCTURED-LOCATION;VALUE=URI;X-ADDRESS=58\, rue des Lombards\, Par
 is\, Île de France\, 75001\, IleDeFrance\, France;X-APPLE-RADIUS=100;X-TI
 TLE=le Baiser Salé:geo:48.8598,2.34791
END:VEVENT
BEGIN:VTIMEZONE
TZID:Europe/Paris
X-LIC-LOCATION:Europe/Paris
BEGIN:STANDARD
DTSTART:20151025T020000
TZOFFSETFROM:+0200
TZOFFSETTO:+0100
TZNAME:CET
END:STANDARD
END:VTIMEZONE
END:VCALENDAR