BEGIN:VCALENDAR
VERSION:2.0
PRODID:-//wp-events-plugin.com//7.2.3.1//EN
TZID:Europe/Paris
X-WR-TIMEZONE:Europe/Paris
BEGIN:VEVENT
UID:1520@bananierbleu.fr
DTSTART;TZID=Europe/Paris:20151030T190000
DTEND;TZID=Europe/Paris:20151030T210000
DTSTAMP:20150923T200222Z
URL:https://bananierbleu.fr/concerts-test/thierry-fanfant-et-mario-canonge
 -duo-autour-de-kann/
SUMMARY:Thierry Fanfant et Mario Canonge Duo “Autour de Kann” - le Bais
 er Salé - 30 Oct 15 19:00
DESCRIPTION:Carte Blanche à Thierry Fanfant\n\nThierry Fanfant basse\, Mar
 io Canonge piano\n\nLes deux compères se retrouvent pour revisiter\, en d
 uo\, les morceaux de Kann'\, devenus des standards de la musique caribéen
 ne. Une discussion\, un échange\, une communion entre deux amis de l
 ongue date\, qui se connaissent par coeur. Un beau moment de musique en p
 erspective.
ATTACH;FMTTYPE=image/jpeg:https://bananierbleu.fr/wp-content/uploads/2015/
 09/thierry-fanfant-29-30-31-oct.jpg
CATEGORIES:Concerts en France
LOCATION:le Baiser Salé\, 58\, rue des Lombards\, Paris\, Île de France\,
  75001\, IleDeFrance\, France
GEO:48.8598;2.34791
X-APPLE-STRUCTURED-LOCATION;VALUE=URI;X-ADDRESS=58\, rue des Lombards\, Par
 is\, Île de France\, 75001\, IleDeFrance\, France;X-APPLE-RADIUS=100;X-TI
 TLE=le Baiser Salé:geo:48.8598,2.34791
END:VEVENT
BEGIN:VTIMEZONE
TZID:Europe/Paris
X-LIC-LOCATION:Europe/Paris
BEGIN:STANDARD
DTSTART:20151025T020000
TZOFFSETFROM:+0200
TZOFFSETTO:+0100
TZNAME:CET
END:STANDARD
END:VTIMEZONE
END:VCALENDAR