BEGIN:VCALENDAR
VERSION:2.0
PRODID:-//wp-events-plugin.com//7.2.3.1//EN
TZID:Europe/Paris
X-WR-TIMEZONE:Europe/Paris
BEGIN:VEVENT
UID:1518@bananierbleu.fr
DTSTART;TZID=Europe/Paris:20151031T190000
DTEND;TZID=Europe/Paris:20151031T210000
DTSTAMP:20150923T200310Z
URL:https://bananierbleu.fr/concerts-test/thierry-fanfant-et-tricia-evy-du
 o-une-voix-une-basse/
SUMMARY:Thierry Fanfant et Tricia Evy Duo “Une voix une basse” - le Bai
 ser Salé - 31 Oct 15 19:00
DESCRIPTION:Carte Blanche à Thierry Fanfant\n\nThierry Fanfant basse\, Tri
 cia Evy voix\n\nUne complicité évidente existe entre entre Tricia et 
 Thierry. Il la considère comme une instrumentiste de la voix et elle com
 me un mélodiste de la basse. Un moment musical fait de partages\, de surp
 rises\, d’étonnements et de dépassements de soi. Sans aucun doute\, l
 e temps passera trop vite\, à les écouter.
ATTACH;FMTTYPE=image/jpeg:https://bananierbleu.fr/wp-content/uploads/2015/
 09/thierry-fanfant-29-30-31-oct.jpg
CATEGORIES:Concerts en France
LOCATION:le Baiser Salé\, 58\, rue des Lombards\, Paris\, Île de France\,
  75001\, IleDeFrance\, France
GEO:48.8598;2.34791
X-APPLE-STRUCTURED-LOCATION;VALUE=URI;X-ADDRESS=58\, rue des Lombards\, Par
 is\, Île de France\, 75001\, IleDeFrance\, France;X-APPLE-RADIUS=100;X-TI
 TLE=le Baiser Salé:geo:48.8598,2.34791
END:VEVENT
BEGIN:VTIMEZONE
TZID:Europe/Paris
X-LIC-LOCATION:Europe/Paris
BEGIN:STANDARD
DTSTART:20151025T020000
TZOFFSETFROM:+0200
TZOFFSETTO:+0100
TZNAME:CET
END:STANDARD
END:VTIMEZONE
END:VCALENDAR