BEGIN:VCALENDAR
VERSION:2.0
PRODID:-//wp-events-plugin.com//7.2.3.1//EN
TZID:Europe/Paris
X-WR-TIMEZONE:Europe/Paris
BEGIN:VEVENT
UID:1519@bananierbleu.fr
DTSTART;TZID=Europe/Paris:20151030T213000
DTEND;TZID=Europe/Paris:20151030T233000
DTSTAMP:20150923T200241Z
URL:https://bananierbleu.fr/concerts-test/thierry-fanfant-et-zic-band/
SUMMARY:Thierry Fanfant et Zic Band - le Baiser Salé - 30 Oct 15 21:30
DESCRIPTION:Carte Blanche à Thierry Fanfant\n\nThierry Fanfant basse/lead\
 , Nestor Azerot voix\, Thomas Bellon batterie\, Thierry Vaton claviers\, P
 atrick Boston guitare\, Albert Vigne percus\, Philippe Slominski trompette
 \,\n\nThibault Hein sax\n\nZic Band a vu le jour en octobre 1996. Mené 
 part Thierry Fanfant\, ce groupe est une histoire d'amitié entre musicie
 ns venus d'horizons différents. Il est né de l'envie de jouer une musiqu
 e de plaisir et de partage\, " le compas ". On vous l’assure\, impossibl
 e de ne pas bouger\, chanter\, ni danser\, quand la puissance de groove 
 et de swing communicatif de ce groupe se met en marche.
ATTACH;FMTTYPE=image/jpeg:https://bananierbleu.fr/wp-content/uploads/2015/
 09/thierry-fanfant-29-30-31-oct.jpg
CATEGORIES:Concerts en France
LOCATION:le Baiser Salé\, 58\, rue des Lombards\, Paris\, Île de France\,
  75001\, IleDeFrance\, France
GEO:48.8598;2.34791
X-APPLE-STRUCTURED-LOCATION;VALUE=URI;X-ADDRESS=58\, rue des Lombards\, Par
 is\, Île de France\, 75001\, IleDeFrance\, France;X-APPLE-RADIUS=100;X-TI
 TLE=le Baiser Salé:geo:48.8598,2.34791
END:VEVENT
BEGIN:VTIMEZONE
TZID:Europe/Paris
X-LIC-LOCATION:Europe/Paris
BEGIN:STANDARD
DTSTART:20151025T020000
TZOFFSETFROM:+0200
TZOFFSETTO:+0100
TZNAME:CET
END:STANDARD
END:VTIMEZONE
END:VCALENDAR