BEGIN:VCALENDAR
VERSION:2.0
PRODID:-//wp-events-plugin.com//7.2.3.1//EN
TZID:Europe/Paris
X-WR-TIMEZONE:Europe/Paris
BEGIN:VEVENT
UID:2685@bananierbleu.fr
DTSTART;TZID=Europe/Paris:20181003T220000
DTEND;TZID=Europe/Paris:20181003T220000
DTSTAMP:20180821T134256Z
URL:https://bananierbleu.fr/concerts-test/thierry-fanfant-groovbones-2/
SUMMARY:Thierry Fanfant "Groov'Bones" - Club Nubia - 3 Oct 18 22:00
DESCRIPTION:"Amateurs de funk\, de fusion jazz-rock (sans concours de vites
 se) et de tout ce qui peut être mis musicalement sous le terme groove\, c
 e groupe est pour vous. L’instrumentation pas si habituelle\, qui met en
  jeu musical deux trombones\, une guitare\, une basse et une batterie\, Gr
 oov’Bones\, fondé fin 2014\, attire déjà l’attention. Ses membres\,
  des musiciens aux carrières bien établies\, sollicités aussi bien par 
 la variété\, que les musiques dites du monde\, des grands ensembles de j
 azz. Soit les trombonistes Thomas Henning et Stéphane Montigny\, le guita
 riste Lucien Zerrad\, le bassiste Thierry Fanfant et le batteur Latani Dio
 uani. Un premier disque au nom du groupe vient d’être publié par Chris
  Music\, tout en swing funky (Frenchy Funky Touch\, Black Dress\, Conquist
 ador\, Big Shot\, Big Kaladja…) avec des teintes de blues (Bones Ballad)
 \, de reggae… Quelques invités y figurent\, dont le pianiste Mario Cano
 nge. Et sur scène\, l’aisance décontractée et l’énergie joyeuse de
 s cinq musiciens font mouche..." LE MONDE\nUn groupe aux influences afro-a
 méricaines et latino.\nEt ça match ! Groov'Bones est né !\n\nThierry Fa
 nfant : basse\nLucien Zerrad : guitare\nLatabi Diouani : batterie\nThomas 
 Henning : trombone\nStéphane Montigny : trombone
ATTACH;FMTTYPE=image/jpeg:https://bananierbleu.fr/wp-content/uploads/2018/
 08/37124599_208733829784168_8301184348711813120_o.jpg
CATEGORIES:Concerts en France
LOCATION:Club Nubia\, 1 voie Île Seguin\, Boulogne Billancourt\, Île de F
 rance\, 92100\, IleDeFrance\, France
GEO:48.823823;2.233292
X-APPLE-STRUCTURED-LOCATION;VALUE=URI;X-ADDRESS=1 voie Île Seguin\, Boulog
 ne Billancourt\, Île de France\, 92100\, IleDeFrance\, France;X-APPLE-RAD
 IUS=100;X-TITLE=Club Nubia:geo:48.823823,2.233292
END:VEVENT
BEGIN:VTIMEZONE
TZID:Europe/Paris
X-LIC-LOCATION:Europe/Paris
BEGIN:DAYLIGHT
DTSTART:20180325T030000
TZOFFSETFROM:+0100
TZOFFSETTO:+0200
TZNAME:CEST
END:DAYLIGHT
END:VTIMEZONE
END:VCALENDAR