BEGIN:VCALENDAR
VERSION:2.0
PRODID:-//wp-events-plugin.com//7.2.3.1//EN
TZID:Europe/Paris
X-WR-TIMEZONE:Europe/Paris
BEGIN:VEVENT
UID:1522@bananierbleu.fr
DTSTART;TZID=Europe/Paris:20151029T213000
DTEND;TZID=Europe/Paris:20151029T233000
DTSTAMP:20150923T200206Z
URL:https://bananierbleu.fr/concerts-test/thierry-fanfant-groove-bones/
SUMMARY:Thierry Fanfant &amp\; Groove Bones - le Baiser Salé - 29 Oct 15 2
 1:30
DESCRIPTION:Carte Blanche à Thierry Fanfant\n\nThierry Fanfant basse\, Lat
 abi Diouani batterie\, Thomas Henning trombone\, Stephane Montigny trombon
 e\, Vincent Faucher guitare\n\nLorsque qu’une rythmique basse-batterie-g
 uitare rencontre deux trombones\, il en ressort du groove. Un son imposant
 \, puissant\, grave et massif. Ce groupe propose une musique groovy\, env
 oûtante qui imprègne le corps. Groove Bones\, à découvrir et écouter 
 sans modération.
ATTACH;FMTTYPE=image/jpeg:https://bananierbleu.fr/wp-content/uploads/2015/
 09/thierry-fanfant-29-30-31-oct.jpg
CATEGORIES:Concerts en France
LOCATION:le Baiser Salé\, 58\, rue des Lombards\, Paris\, Île de France\,
  75001\, IleDeFrance\, France
GEO:48.8598;2.34791
X-APPLE-STRUCTURED-LOCATION;VALUE=URI;X-ADDRESS=58\, rue des Lombards\, Par
 is\, Île de France\, 75001\, IleDeFrance\, France;X-APPLE-RADIUS=100;X-TI
 TLE=le Baiser Salé:geo:48.8598,2.34791
END:VEVENT
BEGIN:VTIMEZONE
TZID:Europe/Paris
X-LIC-LOCATION:Europe/Paris
BEGIN:STANDARD
DTSTART:20151025T020000
TZOFFSETFROM:+0200
TZOFFSETTO:+0100
TZNAME:CET
END:STANDARD
END:VTIMEZONE
END:VCALENDAR