BEGIN:VCALENDAR
VERSION:2.0
PRODID:-//wp-events-plugin.com//7.2.3.1//EN
TZID:Europe/Paris
X-WR-TIMEZONE:Europe/Paris
BEGIN:VEVENT
UID:1521@bananierbleu.fr
DTSTART;TZID=Europe/Paris:20151029T190000
DTEND;TZID=Europe/Paris:20151029T210000
DTSTAMP:20150923T200643Z
URL:https://bananierbleu.fr/concerts-test/thierry-fanfant-presente-autour-
 du-ka/
SUMMARY:Thierry Fanfant présente “Autour du Ka” - le Baiser Salé - 29
  Oct 15 19:00
DESCRIPTION:Carte Blanche à Thierry Fanfant\n\nThierry Fanfant basse\, Chr
 istophe Cravero violon\, Roger Raspail ka\, Yoan Danier batterie\n\nLa bas
 se de Thierry Fanfant\, le violon mélodieux de Christophe Cravero\, méla
 ngés au rythme du ka et de la batterie font de cette rencontre un événe
 ment à part dans le monde de la fusion.\n\nC'est la rencontre entre 4 mus
 iciens issus de mondes musicaux différents autour de la musique traditio
 nnelle. Les écouter n'est plus un acte passif mais une communion\, un vo
 yage que l'on n'oublie pas.
ATTACH;FMTTYPE=image/jpeg:https://bananierbleu.fr/wp-content/uploads/2015/
 09/thierry-fanfant-29-30-31-oct.jpg
CATEGORIES:Concerts en France
LOCATION:le Baiser Salé\, 58\, rue des Lombards\, Paris\, Île de France\,
  75001\, IleDeFrance\, France
GEO:48.8598;2.34791
X-APPLE-STRUCTURED-LOCATION;VALUE=URI;X-ADDRESS=58\, rue des Lombards\, Par
 is\, Île de France\, 75001\, IleDeFrance\, France;X-APPLE-RADIUS=100;X-TI
 TLE=le Baiser Salé:geo:48.8598,2.34791
END:VEVENT
BEGIN:VTIMEZONE
TZID:Europe/Paris
X-LIC-LOCATION:Europe/Paris
BEGIN:STANDARD
DTSTART:20151025T020000
TZOFFSETFROM:+0200
TZOFFSETTO:+0100
TZNAME:CET
END:STANDARD
END:VTIMEZONE
END:VCALENDAR