BEGIN:VCALENDAR
VERSION:2.0
PRODID:-//wp-events-plugin.com//7.2.3.1//EN
TZID:Europe/Paris
X-WR-TIMEZONE:Europe/Paris
BEGIN:VEVENT
UID:542@bananierbleu.fr
DTSTART;TZID=Europe/Paris:20130601T213000
DTEND;TZID=Europe/Paris:20130601T213000
DTSTAMP:20130601T084626Z
URL:https://bananierbleu.fr/concerts-test/thierry-fanfant-quartet-4/
SUMMARY:Thierry Fanfant quartet - le Baiser Salé - 1 Juin 13 21:30
DESCRIPTION:Thierry Fanfant basse\, David Fackeure piano\,\nJean Philippe F
 anfant batterie\, Thibaud Hein saxophone.\nCe qui fait la différence\, da
 ns le jeu de basse de Thierry\, c’est son souffle. Oui\, je connais la d
 ifférence entre une basse et une trompette mais c’est pourtant le terme
  le mieux adapté pour décrire une musique qui reste avant tout connecté
 e à la Vie\, et qui dessine des ponts entre ici et « là-haut »\, et au
 ssi entre ici et « là-bas »\, où tous les Antillais ont un bout d’eu
 x-mêmes. Tout ce qu’il touche fait de la musique\, et ça rayonne autou
 r de lui\, comme de son frère Jean-Philippe. Voir ces deux-là jouer ense
 mble vous réconcilie avec le monde. Le fait qu’ils sourient en jouant e
 st d’ailleurs moins anodin qu’il n’y paraît. Il ne s’agit pas de 
 sourire pour la photo : ils sont profondément heureux de jouer\, à cent 
 lieues des « intellos du jazz » qu’on reconnaît à leur air mi-import
 ant mi-constipé\, ainsi qu’à leur incapacité à écouter. Avec Thierr
 y\, la musique se révèle être une histoire de famille et les rythmes\, 
 rudes et puissants\, restent immortels. 
CATEGORIES:Concerts en France
LOCATION:le Baiser Salé\, 58\, rue des Lombards\, Paris\, Île de France\,
  75001\, IleDeFrance\, France
GEO:48.8598;2.34791
X-APPLE-STRUCTURED-LOCATION;VALUE=URI;X-ADDRESS=58\, rue des Lombards\, Par
 is\, Île de France\, 75001\, IleDeFrance\, France;X-APPLE-RADIUS=100;X-TI
 TLE=le Baiser Salé:geo:48.8598,2.34791
END:VEVENT
BEGIN:VTIMEZONE
TZID:Europe/Paris
X-LIC-LOCATION:Europe/Paris
BEGIN:DAYLIGHT
DTSTART:20130331T030000
TZOFFSETFROM:+0100
TZOFFSETTO:+0200
TZNAME:CEST
END:DAYLIGHT
END:VTIMEZONE
END:VCALENDAR