BEGIN:VCALENDAR
VERSION:2.0
PRODID:-//wp-events-plugin.com//7.2.3.1//EN
TZID:Europe/Paris
X-WR-TIMEZONE:Europe/Paris
BEGIN:VEVENT
UID:196@bananierbleu.fr
DTSTART;TZID=Europe/Paris:20120427T210000
DTEND;TZID=Europe/Paris:20120427T210000
DTSTAMP:20120423T201612Z
URL:https://bananierbleu.fr/concerts-test/tony-tixier-quartet-featuring-lo
 gan-richardson/
SUMMARY:Tony Tixier Quartet featuring Logan Richardson -  - 27 Avr 12 21:00
DESCRIPTION:Pour la sortie de l’album "Dream pursuit" chez Space Time Rec
 ords\n\nAvec ce nouveau Quartet\, le pianiste Tony Tixier réunit autour d
 e lui trois des musiciens américains les plus talentueux et les plus acti
 fs de la scène New-yorkaise actuelle. Ce projet est né d'une rencontre e
 ntre Logan et Tony à NY. La musique proposée est nourrie par le terreau 
 de la scène de New-York: un Jazz moderne aux couleurs de notre époque m
 étissée qui flirte avec des grooves Hip-Hop hypnotiques ou avec le swing
  énergique d'une section rythmique qui voyage avec des solistes inspirés
 . C'est un voyage plein de couleurs et de rebondissements que nous vous pr
 oposons\, avec des musiciens exceptionnels :\n\nLogan Richardson est l'un 
 des saxophoniste les plus inventifs de sa generation (Jason Moran\, Billy 
 Hart\, Nasheet Waits\, Joe Chambers...). Burniss Travis II est devenu à s
 eulement 24 ans\, le bassiste que tout le monde s'arrache dans le Jazz mai
 s aussi dans le Hip Hop (Robert Glasper\, Mike Moreno\, Jason Moran\, Elda
 r Djangirov\, Q-Tip\, Ludacris...). Tony Tixier est un jeune talent de la 
 scène jazz européenne\, dejà à l'initiative d'un premier disque en sep
 tet en leader\, grandement salué par le public et la critique ( Brian Mel
 vin\, Myron Walden\, Louis Moutin\, Walt Weiskopf...) La grande classe!\n\
 nEt uniquement le 27 avril à 23h une Jam Session animée par Tony Tixier 
CATEGORIES:Concerts en France
LOCATION:\, \, 
X-APPLE-STRUCTURED-LOCATION;VALUE=URI;X-ADDRESS=\, ;X-APPLE-RADIUS=100;X-TI
 TLE=:geo:0,0
END:VEVENT
BEGIN:VTIMEZONE
TZID:Europe/Paris
X-LIC-LOCATION:Europe/Paris
BEGIN:DAYLIGHT
DTSTART:20120325T030000
TZOFFSETFROM:+0100
TZOFFSETTO:+0200
TZNAME:CEST
END:DAYLIGHT
END:VTIMEZONE
END:VCALENDAR