BEGIN:VCALENDAR
VERSION:2.0
PRODID:-//wp-events-plugin.com//7.2.3.1//EN
TZID:Europe/Paris
X-WR-TIMEZONE:Europe/Paris
BEGIN:VEVENT
UID:970@bananierbleu.fr
DTSTART;TZID=Europe/Paris:20140719T210000
DTEND;TZID=Europe/Paris:20140719T210000
DTSTAMP:20140717T072910Z
URL:https://bananierbleu.fr/concerts-test/toucy-jazz-alain-jean-marie-quin
 tet/
SUMMARY:[Toucy Jazz] Alain Jean-Marie quintet - Toucy Jazz - 19 Juil 14 21:
 00
DESCRIPTION:feat. Sara Lazarus
CATEGORIES:Concerts en France
LOCATION:Toucy Jazz\, Parc de la Glaudonnerie\, Toucy\, 89130\, France
GEO:47.7350629;3.2943500000000085
X-APPLE-STRUCTURED-LOCATION;VALUE=URI;X-ADDRESS=Parc de la Glaudonnerie\, T
 oucy\, 89130\, France;X-APPLE-RADIUS=100;X-TITLE=Toucy Jazz:geo:47.7350629
 ,3.2943500000000085
END:VEVENT
BEGIN:VTIMEZONE
TZID:Europe/Paris
X-LIC-LOCATION:Europe/Paris
BEGIN:DAYLIGHT
DTSTART:20140330T030000
TZOFFSETFROM:+0100
TZOFFSETTO:+0200
TZNAME:CEST
END:DAYLIGHT
END:VTIMEZONE
END:VCALENDAR