BEGIN:VCALENDAR
VERSION:2.0
PRODID:-//wp-events-plugin.com//7.2.3.1//EN
TZID:Europe/Paris
X-WR-TIMEZONE:Europe/Paris
BEGIN:VEVENT
UID:2381@bananierbleu.fr
DTSTART;TZID=Europe/Paris:20171007T210000
DTEND;TZID=Europe/Paris:20171007T210000
DTSTAMP:20170927T085059Z
URL:https://bananierbleu.fr/concerts-test/tribal-poursuite-lelephant-brass
 -machine/
SUMMARY:Tribal Poursuite et l'Elephant Brass Machine - Aux Bons Sauvages - 
 7 Oct 17 21:00
DESCRIPTION:Ce septet afro jazz naviguera entre des compositions originales
  aux accents coltraniens et des ambiances afro latin jazz très festives p
 our finir dans le public en mode fanfare... A retrouver le lendemain au Rh
 ino Jazz de Saint-Chamond.\n\nhttps://www.youtube.com/watch?v=OW1AQW-8i0c&
 amp\;feature=youtu.be\n\n&nbsp\;
ATTACH;FMTTYPE=image/jpeg:https://bananierbleu.fr/wp-content/uploads/2017/
 09/illustration-tribal-poursuite-et-l-elephant-brass-machine_1-1506349210.
 jpg
CATEGORIES:Concerts en France
LOCATION:Aux Bons Sauvages\, 2 Quai Jean-Jacques Rousseau\, La Mulatière\,
  69350\, Auvergne Rhône-Alpes\, France
GEO:45.7493105;4.817013299999985
X-APPLE-STRUCTURED-LOCATION;VALUE=URI;X-ADDRESS=2 Quai Jean-Jacques Roussea
 u\, La Mulatière\, 69350\, Auvergne Rhône-Alpes\, France;X-APPLE-RADIUS=
 100;X-TITLE=Aux Bons Sauvages:geo:45.7493105,4.817013299999985
END:VEVENT
BEGIN:VTIMEZONE
TZID:Europe/Paris
X-LIC-LOCATION:Europe/Paris
BEGIN:DAYLIGHT
DTSTART:20170326T030000
TZOFFSETFROM:+0100
TZOFFSETTO:+0200
TZNAME:CEST
END:DAYLIGHT
END:VTIMEZONE
END:VCALENDAR