BEGIN:VCALENDAR
VERSION:2.0
PRODID:-//wp-events-plugin.com//7.2.3.1//EN
TZID:Europe/Paris
X-WR-TIMEZONE:Europe/Paris
BEGIN:VEVENT
UID:964@bananierbleu.fr
DTSTART;TZID=Europe/Paris:20140725T200000
DTEND;TZID=Europe/Paris:20140725T200000
DTSTAMP:20140715T074435Z
URL:https://bananierbleu.fr/concerts-test/tricia-evy-5/
SUMMARY:Tricia Evy - Apostrophe Café - 25 Juil 14 20:00
DESCRIPTION:
ATTACH;FMTTYPE=image/jpeg:https://bananierbleu.fr/wp-content/uploads/2014/
 04/tricia_concerts_400.jpg
CATEGORIES:Concerts en France
LOCATION:Apostrophe Café\, 9 Rue Maurice Thorez\, Nanterre\, 92000\, Franc
 e
GEO:48.8911452;2.194838300000015
X-APPLE-STRUCTURED-LOCATION;VALUE=URI;X-ADDRESS=9 Rue Maurice Thorez\, Nant
 erre\, 92000\, France;X-APPLE-RADIUS=100;X-TITLE=Apostrophe Café:geo:48.8
 911452,2.194838300000015
END:VEVENT
BEGIN:VTIMEZONE
TZID:Europe/Paris
X-LIC-LOCATION:Europe/Paris
BEGIN:DAYLIGHT
DTSTART:20140330T030000
TZOFFSETFROM:+0100
TZOFFSETTO:+0200
TZNAME:CEST
END:DAYLIGHT
END:VTIMEZONE
END:VCALENDAR