BEGIN:VCALENDAR
VERSION:2.0
PRODID:-//wp-events-plugin.com//7.2.3.1//EN
TZID:Europe/Paris
X-WR-TIMEZONE:Europe/Paris
BEGIN:VEVENT
UID:965@bananierbleu.fr
DTSTART;TZID=Europe/Paris:20140731T200000
DTEND;TZID=Europe/Paris:20140731T200000
DTSTAMP:20140715T075715Z
URL:https://bananierbleu.fr/concerts-test/tricia-evy-6/
SUMMARY:Tricia Evy - Hôtel Imperator - 31 Juil 14 20:00
DESCRIPTION:
ATTACH;FMTTYPE=image/jpeg:https://bananierbleu.fr/wp-content/uploads/2014/
 04/tricia_concerts_400.jpg
CATEGORIES:Concerts en France
LOCATION:Hôtel Imperator\, 15 Rue Gaston Boissier\, Nîmes\, 30900\, Franc
 e
GEO:43.8388602;4.352789600000051
X-APPLE-STRUCTURED-LOCATION;VALUE=URI;X-ADDRESS=15 Rue Gaston Boissier\, N
 îmes\, 30900\, France;X-APPLE-RADIUS=100;X-TITLE=Hôtel Imperator:geo:43.
 8388602,4.352789600000051
END:VEVENT
BEGIN:VTIMEZONE
TZID:Europe/Paris
X-LIC-LOCATION:Europe/Paris
BEGIN:DAYLIGHT
DTSTART:20140330T030000
TZOFFSETFROM:+0100
TZOFFSETTO:+0200
TZNAME:CEST
END:DAYLIGHT
END:VTIMEZONE
END:VCALENDAR