BEGIN:VCALENDAR
VERSION:2.0
PRODID:-//wp-events-plugin.com//7.2.3.1//EN
TZID:Europe/Paris
X-WR-TIMEZONE:Europe/Paris
BEGIN:VEVENT
UID:2318@bananierbleu.fr
DTSTART;TZID=Europe/Paris:20170715T190000
DTEND;TZID=Europe/Paris:20170715T190000
DTSTAMP:20170713T094406Z
URL:https://bananierbleu.fr/concerts-test/tricia-evy-ella-and-basie-volume
 -1/
SUMMARY:Tricia Evy - "Ella and Basie - volume 1" - le Baiser Salé - 15 Jui
 l 17 19:00
DESCRIPTION:Tricia Evy vous donne rendez vous pour deux concerts exceptionn
 els en homage à l’album “Ella and Basie !”. Cet album\, arrangé pa
 r Quincy Jones alors agé de 30 ans\, est la deuxième collaboration entre
  les légendaires Count Basie et Ella Fitzgerald. Ella et Basie y chantent
  des morceaux popularisés par des légendes comme Louis Armstrong\, Fats 
 Waller\, Billie Holiday et bien d’autres. Pour cet hommage conçu en deu
 x volets\, Tricia invite le grand Philippe Milanta qui a notamment accompa
 gné Glenn Ferris\, Spanky Wilson et Guy Lafitte.&nbsp\;
ATTACH;FMTTYPE=image/jpeg:https://bananierbleu.fr/wp-content/uploads/2017/
 07/7h86.jpeg
CATEGORIES:Concerts en France
LOCATION:le Baiser Salé\, 58\, rue des Lombards\, Paris\, Île de France\,
  75001\, IleDeFrance\, France
GEO:48.8598;2.34791
X-APPLE-STRUCTURED-LOCATION;VALUE=URI;X-ADDRESS=58\, rue des Lombards\, Par
 is\, Île de France\, 75001\, IleDeFrance\, France;X-APPLE-RADIUS=100;X-TI
 TLE=le Baiser Salé:geo:48.8598,2.34791
END:VEVENT
BEGIN:VTIMEZONE
TZID:Europe/Paris
X-LIC-LOCATION:Europe/Paris
BEGIN:DAYLIGHT
DTSTART:20170326T030000
TZOFFSETFROM:+0100
TZOFFSETTO:+0200
TZNAME:CEST
END:DAYLIGHT
END:VTIMEZONE
END:VCALENDAR