BEGIN:VCALENDAR
VERSION:2.0
PRODID:-//wp-events-plugin.com//7.2.3.1//EN
TZID:Europe/Paris
X-WR-TIMEZONE:Europe/Paris
BEGIN:VEVENT
UID:607@bananierbleu.fr
DTSTART;TZID=Europe/Paris:20130921T213000
DTEND;TZID=Europe/Paris:20130921T213000
DTSTAMP:20130907T094149Z
URL:https://bananierbleu.fr/concerts-test/tricia-evy-hommage-a-billie-holi
 day/
SUMMARY:Tricia Evy - Hommage à Billie Holiday - le Baiser Salé - 21 Sep 1
 3 21:30
DESCRIPTION:Tricia Evy voix\, David Fackeure piano\,\nNicolas Montier sax t
 énor\, Sébastien Girardot cbasse\nUn plaisir de retrouver notre douce é
 toile de haut vol dans le jazz vocal. Tricia Evy chante un répertoire ori
 ginal\, oscillant entre compositions personnelles\, morceaux issus du patr
 imoine antillais ou standards de jazz. Musicienne en constante activité\,
  Tricia Evy prépare un nouvel album qui sortira à la rentrée. Le public
  a déjà pu la découvrir sur de très nombreuses scènes\, parmi lesquel
 les le Manly Jazz Festival à Sydney\, le Duc des Lombards\, Jazz in Marci
 ac\, Enghien Jazz Festival... 
CATEGORIES:Concerts en France
LOCATION:le Baiser Salé\, 58\, rue des Lombards\, Paris\, Île de France\,
  75001\, IleDeFrance\, France
GEO:48.8598;2.34791
X-APPLE-STRUCTURED-LOCATION;VALUE=URI;X-ADDRESS=58\, rue des Lombards\, Par
 is\, Île de France\, 75001\, IleDeFrance\, France;X-APPLE-RADIUS=100;X-TI
 TLE=le Baiser Salé:geo:48.8598,2.34791
END:VEVENT
BEGIN:VTIMEZONE
TZID:Europe/Paris
X-LIC-LOCATION:Europe/Paris
BEGIN:DAYLIGHT
DTSTART:20130331T030000
TZOFFSETFROM:+0100
TZOFFSETTO:+0200
TZNAME:CEST
END:DAYLIGHT
END:VTIMEZONE
END:VCALENDAR