BEGIN:VCALENDAR
VERSION:2.0
PRODID:-//wp-events-plugin.com//7.2.3.1//EN
TZID:Europe/Paris
X-WR-TIMEZONE:Europe/Paris
BEGIN:VEVENT
UID:545@bananierbleu.fr
DTSTART;TZID=Europe/Paris:20130608T213000
DTEND;TZID=Europe/Paris:20130608T213000
DTSTAMP:20130601T085045Z
URL:https://bananierbleu.fr/concerts-test/tricia-evy-invite-thierry-vaton-
 et-thierry-fanfant/
SUMMARY:Tricia Evy invite Thierry Vaton et Thierry Fanfant - le Baiser Sal
 é - 8 Juin 13 21:30
DESCRIPTION:Tricia Evy voix\, Thierry Vaton piano\, Thierry Fanfant contreb
 asse\nUn voyage entre le Jazz et les rythmes Caribéens que nous propose T
 ricia\, étoile montante\, sinon filante\, à la voix de velours. Elle est
  au Baiser Salé chez elle\, on lui laisse donc la liberté d’inviter ce
 s compères. A commencer par Thierry Fanfant dont le jeu de basse\, se dé
 finit bien par son souffle… puis\, Thierry Vaton\, le talentueux martini
 quais à la technique irréprochable\, pour créer un trio qui nous transp
 orte directement vers les Antilles! 
CATEGORIES:Concerts en France
LOCATION:le Baiser Salé\, 58\, rue des Lombards\, Paris\, Île de France\,
  75001\, IleDeFrance\, France
GEO:48.8598;2.34791
X-APPLE-STRUCTURED-LOCATION;VALUE=URI;X-ADDRESS=58\, rue des Lombards\, Par
 is\, Île de France\, 75001\, IleDeFrance\, France;X-APPLE-RADIUS=100;X-TI
 TLE=le Baiser Salé:geo:48.8598,2.34791
END:VEVENT
BEGIN:VTIMEZONE
TZID:Europe/Paris
X-LIC-LOCATION:Europe/Paris
BEGIN:DAYLIGHT
DTSTART:20130331T030000
TZOFFSETFROM:+0100
TZOFFSETTO:+0200
TZNAME:CEST
END:DAYLIGHT
END:VTIMEZONE
END:VCALENDAR