BEGIN:VCALENDAR
VERSION:2.0
PRODID:-//wp-events-plugin.com//7.2.3.1//EN
TZID:Europe/Paris
X-WR-TIMEZONE:Europe/Paris
BEGIN:VEVENT
UID:596@bananierbleu.fr
DTSTART;TZID=Europe/Paris:20140110T203000
DTEND;TZID=Europe/Paris:20140110T203000
DTSTAMP:20130820T093305Z
URL:https://bananierbleu.fr/concerts-test/tricia-evy-lady-in-satin-2/
SUMMARY:Tricia Evy - Lady in Satin - l'Odyssée - 10 Jan 14 20:30
DESCRIPTION:Entre rythmes chaloupés et phrasés raffinés\, une jeune chan
 teuse guadeloupéenne évoque avec sensibilité une Lady du jazz\, Billie 
 Holiday...\n\nDes touches de swing et de biguine\, des échappées vers la
  bossa nova... et bien sûr\, des frissons de jazz ! Entourée de musicien
 s d’exception\, Tricia Evy glisse sa silhouette glamour et son superbe t
 imbre de voix dans un répertoire qui ondule\, entre langueur\net ferveur.
 .. Elle rend ici un vibrant hommage à l’une des plus grandes dames du j
 azz\, qui a gravé talent et excès sur la partition de son\nexistence com
 me dans l’album Lady in Satin\, enregistré un an avant sa disparition. 
 Autodidacte inspirée\, Tricia Evy revitalise des titres infiniment émouv
 ants comme « I’m a fool to want you » ou «You don’t know what love 
 is »... Des sonorités nuancées\, une gamme\ncomplète de sensations por
 tées par le souffle chaud du saxophone et l’énergie de la rythmique. U
 n feeling au charme désarmant ! « La fraîcheur\, la justesse\, l’éno
 nciation savoureuse et l’allant de la chanteuse trouvent dans les contre
 -chants langoureux du saxophoniste\, dans les accords subtils et l’élé
 gance du guitariste\, davantage qu’un soutien : un écrin\, sorte de lag
 on musical serein et bienfaisant. »\nClassica Magazine
CATEGORIES:Concerts en France
LOCATION:l'Odyssée\, \, 
GEO:0.000000;0.000000
X-APPLE-STRUCTURED-LOCATION;VALUE=URI;X-ADDRESS=\, ;X-APPLE-RADIUS=100;X-TI
 TLE=l'Odyssée:geo:0.000000,0.000000
END:VEVENT
BEGIN:VTIMEZONE
TZID:Europe/Paris
X-LIC-LOCATION:Europe/Paris
BEGIN:STANDARD
DTSTART:20131027T020000
TZOFFSETFROM:+0200
TZOFFSETTO:+0100
TZNAME:CET
END:STANDARD
END:VTIMEZONE
END:VCALENDAR