BEGIN:VCALENDAR
VERSION:2.0
PRODID:-//wp-events-plugin.com//7.2.3.1//EN
TZID:Europe/Paris
X-WR-TIMEZONE:Europe/Paris
BEGIN:VEVENT
UID:268@bananierbleu.fr
DTSTART;TZID=Europe/Paris:20120720T213000
DTEND;TZID=Europe/Paris:20120720T230000
DTSTAMP:20120715T101013Z
URL:https://bananierbleu.fr/concerts-test/tricia-evy-new-orleans/
SUMMARY:Tricia Evy "New Orleans" - le Baiser Salé - 20 Juil 12 21:30
DESCRIPTION:Ce vendredi 20 Juillet c'est donc une invitation à voyager dan
 s le temps que j'envoie. Je serai accompagnée par Steve Barry (Jeune pian
 iste Australien très très talentueux en tournée en Europe)\, Julie Saur
 y (Batteuse de Rhoda Scott entre autres)\, Willie Wrinkle (Jeune contrebas
 siste du Texas)\, Luigi Grasso (Un des meilleurs saxophoniste alto Italien
 ) et Armand Dubois (Jeune musiciens français\, qui joue du Cor\, oui oui 
 ça vaut le détour)\, plus des invités...
CATEGORIES:Concerts en France
LOCATION:le Baiser Salé\, 58\, rue des Lombards\, Paris\, Île de France\,
  75001\, IleDeFrance\, France
GEO:48.8598;2.34791
X-APPLE-STRUCTURED-LOCATION;VALUE=URI;X-ADDRESS=58\, rue des Lombards\, Par
 is\, Île de France\, 75001\, IleDeFrance\, France;X-APPLE-RADIUS=100;X-TI
 TLE=le Baiser Salé:geo:48.8598,2.34791
END:VEVENT
BEGIN:VTIMEZONE
TZID:Europe/Paris
X-LIC-LOCATION:Europe/Paris
BEGIN:DAYLIGHT
DTSTART:20120325T030000
TZOFFSETFROM:+0100
TZOFFSETTO:+0200
TZNAME:CEST
END:DAYLIGHT
END:VTIMEZONE
END:VCALENDAR