BEGIN:VCALENDAR
VERSION:2.0
PRODID:-//wp-events-plugin.com//7.2.3.1//EN
TZID:Europe/Paris
X-WR-TIMEZONE:Europe/Paris
BEGIN:VEVENT
UID:554@bananierbleu.fr
DTSTART;TZID=Europe/Paris:20130629T203000
DTEND;TZID=Europe/Paris:20130629T203000
DTSTAMP:20130605T155132Z
URL:https://bananierbleu.fr/concerts-test/tricia-evy-quartet/
SUMMARY:Tricia Evy quartet - Campo Santo - 29 Juin 13 20:30
DESCRIPTION:Dans le cadre du Festival de Jazz d'Orléans\, et en première 
 partie de Kassav'\n\nÉtoile montante du jazz vocal\, Tricia Evy a grandi 
 sur l’île de la Guadeloupe. C’est là-bas qu’elle manifeste très t
 ôt un intérêt pour la musique à l’écoute d’artistes tels que Patr
 ick Saint-Éloi ou Georges Brassens... À son arrivée en France en 2006\,
  elle se passionne pour le jazz\, en particulier au travers d’artistes t
 els qu’Ella Fitzgerald\, Billie Holiday\, Louis Armstrong\, Stan Getz\, 
 Nat King Cole... Son premier album « Beginning » sort en 2010. Aujourd
 ’hui entourée d’une rythmique de haut vol réunissant le pianiste Dav
 id Fackeure (deux nominations aux Victoires du Jazz en 2008)\, le bassiste
  Thierry Fanfant (entendu régulièrement aux côtés de Paco Séry\, Bern
 ard Lavilliers...) et le batteur Francis Arnaud (Eddy Louiss\, Charles Azn
 avour\, Dominique Fillon...)\, Tricia Evy chante un répertoire original\,
  oscillant entre compositions personnelles\, morceaux issus du patrimoine 
 antillais ou standards de jazz.\n\nMusicienne en constante activité\, Tri
 cia Evy prépare un nouvel album qui sortira à la rentrée. Le public a d
 éjà pu la découvrir sur de très nombreuses scènes\, parmi lesquelles 
 le Manly Jazz Festival à Sydney\, le Duc des Lombards\, Jazz in Marciac\,
  Enghien Jazz Festival...\n\n	Tricia Evy\, chant\n	David Fackeure\, piano\
 n	Thierry Fanfant\, contrebasse et basse\n	Francis Arnaud\, batterie\n\n
CATEGORIES:Concerts en France
LOCATION:Campo Santo\, Impasse de la Salamandre\, Orléans\, 45000\, France
GEO:47.903071;1.9115010000000439
X-APPLE-STRUCTURED-LOCATION;VALUE=URI;X-ADDRESS=Impasse de la Salamandre\, 
 Orléans\, 45000\, France;X-APPLE-RADIUS=100;X-TITLE=Campo Santo:geo:47.90
 3071,1.9115010000000439
END:VEVENT
BEGIN:VTIMEZONE
TZID:Europe/Paris
X-LIC-LOCATION:Europe/Paris
BEGIN:DAYLIGHT
DTSTART:20130331T030000
TZOFFSETFROM:+0100
TZOFFSETTO:+0200
TZNAME:CEST
END:DAYLIGHT
END:VTIMEZONE
END:VCALENDAR