BEGIN:VCALENDAR
VERSION:2.0
PRODID:-//wp-events-plugin.com//7.2.3.1//EN
TZID:Europe/Paris
X-WR-TIMEZONE:Europe/Paris
BEGIN:VEVENT
UID:440@bananierbleu.fr
DTSTART;TZID=Europe/Paris:20130330T200000
DTEND;TZID=Europe/Paris:20130330T200000
DTSTAMP:20130320T202843Z
URL:https://bananierbleu.fr/concerts-test/tricia-evy-thierry-fanfant-duo/
SUMMARY:Tricia Evy & Thierry Fanfant duo - le Baiser Salé - 30 Mar 13 20:0
 0
DESCRIPTION:Un duo exceptionnel pour un thème exceptionnel "Simé Lanmou" 
 (Semer l'Amour).\n\nC'est ce que nous ferons ce Samedi 30 Mars\, nous sèm
 erons l'amour à travers des rythmes\, des mélodies et des sourires.\n\nJ
 e n'en dirais pas plus sur les morceaux que l'on jouera ce soir là...Vene
 z simplement avec votre coeur et on vous le rechauffera \;)
CATEGORIES:Concerts en France
LOCATION:le Baiser Salé\, 58\, rue des Lombards\, Paris\, Île de France\,
  75001\, IleDeFrance\, France
GEO:48.8598;2.34791
X-APPLE-STRUCTURED-LOCATION;VALUE=URI;X-ADDRESS=58\, rue des Lombards\, Par
 is\, Île de France\, 75001\, IleDeFrance\, France;X-APPLE-RADIUS=100;X-TI
 TLE=le Baiser Salé:geo:48.8598,2.34791
END:VEVENT
BEGIN:VTIMEZONE
TZID:Europe/Paris
X-LIC-LOCATION:Europe/Paris
BEGIN:STANDARD
DTSTART:20121028T020000
TZOFFSETFROM:+0200
TZOFFSETTO:+0100
TZNAME:CET
END:STANDARD
END:VTIMEZONE
END:VCALENDAR