BEGIN:VCALENDAR
VERSION:2.0
PRODID:-//wp-events-plugin.com//7.2.3.1//EN
TZID:Europe/Paris
X-WR-TIMEZONE:Europe/Paris
BEGIN:VEVENT
UID:657@bananierbleu.fr
DTSTART;TZID=Europe/Paris:20131127T213000
DTEND;TZID=Europe/Paris:20131127T213000
DTSTAMP:20131024T195402Z
URL:https://bananierbleu.fr/concerts-test/tricia-sortie-de-lalbum-meet-me/
SUMMARY:Tricia - sortie de l'album "Meet me" - le Baiser Salé - 27 Nov 13 
 21:30
DESCRIPTION:Tricia EVY - Sortie d'album "Meet me"\nTricia Evy voix\, David 
 Fackeure piano\,\nFrancis Arnaud batterie\, Sébastien Girardot cbasse\nTr
 icia Evy chante un répertoire original\, oscillant entre compositions per
 sonnelles\, morceaux issus du patrimoine antillais et standards de jazz. E
 n sortie le 7 novembre 2013\, son second album réunit des musiciens et un
 e rythmique de haut vol ! 
CATEGORIES:Concerts en France
LOCATION:le Baiser Salé\, 58\, rue des Lombards\, Paris\, Île de France\,
  75001\, IleDeFrance\, France
GEO:48.8598;2.34791
X-APPLE-STRUCTURED-LOCATION;VALUE=URI;X-ADDRESS=58\, rue des Lombards\, Par
 is\, Île de France\, 75001\, IleDeFrance\, France;X-APPLE-RADIUS=100;X-TI
 TLE=le Baiser Salé:geo:48.8598,2.34791
END:VEVENT
BEGIN:VTIMEZONE
TZID:Europe/Paris
X-LIC-LOCATION:Europe/Paris
BEGIN:STANDARD
DTSTART:20131027T020000
TZOFFSETFROM:+0200
TZOFFSETTO:+0100
TZNAME:CET
END:STANDARD
END:VTIMEZONE
END:VCALENDAR