BEGIN:VCALENDAR
VERSION:2.0
PRODID:-//wp-events-plugin.com//7.2.3.1//EN
TZID:Europe/Paris
X-WR-TIMEZONE:Europe/Paris
BEGIN:VEVENT
UID:3172@bananierbleu.fr
DTSTART;TZID=America/Guadeloupe:20210312T193000
DTEND;TZID=America/Guadeloupe:20210312T193000
DTSTAMP:20210225T093549Z
URL:https://bananierbleu.fr/concerts-test/trio-conversations-ouvertes-homm
 age-a-chick-corea/
SUMMARY:Trio Conversations Ouvertes - Hommage à Chick Corea - Le Café Phi
 losophie - 12 Mar 21 19:30
DESCRIPTION:Le Trio Concersations Ouvertes avec Philippe DESPREZ au Piano\,
  Joël LAROCHELLE à la COntrebasse et Bruno JOFA au violon rendent hommag
 e à un de leur Maître\, qui nous a récemment quitté : Chick COREA. C'e
 st une soirée haute en couleur avec 3 virtuoses du Jazz\, que le Café Ph
 ilosophie vous propose le 12 mars. Un évènement à ne pas rater pour tou
 s les amoureux du Jazz et de Chick COREA. 
ATTACH;FMTTYPE=image/jpeg:https://bananierbleu.fr/wp-content/uploads/2021/
 02/TrioConversations.jpg
CATEGORIES:Concerts en Guadeloupe
LOCATION:Le Café Philosophie\, Imm. Ary Encelade - Boulevard de Houelbourg
 \, Baie-Mahault\, Guadeloupe\, 97122\, Guadeloupe\, Guadeloupe
X-APPLE-STRUCTURED-LOCATION;VALUE=URI;X-ADDRESS=Imm. Ary Encelade - Bouleva
 rd de Houelbourg\, Baie-Mahault\, Guadeloupe\, 97122\, Guadeloupe\, Guadel
 oupe;X-APPLE-RADIUS=100;X-TITLE=Le Café Philosophie:geo:0,0
END:VEVENT
BEGIN:VTIMEZONE
TZID:America/Guadeloupe
X-LIC-LOCATION:America/Guadeloupe
BEGIN:STANDARD
DTSTART:20200312T193000
TZOFFSETFROM:-0400
TZOFFSETTO:-0400
TZNAME:AST
END:STANDARD
END:VTIMEZONE
END:VCALENDAR