BEGIN:VCALENDAR
VERSION:2.0
PRODID:-//wp-events-plugin.com//7.2.3.1//EN
TZID:Europe/Paris
X-WR-TIMEZONE:Europe/Paris
BEGIN:VEVENT
UID:2359@bananierbleu.fr
DTSTART;TZID=Europe/Paris:20170831T203000
DTEND;TZID=Europe/Paris:20170831T203000
DTSTAMP:20170829T202344Z
URL:https://bananierbleu.fr/concerts-test/trio-montalegre/
SUMMARY:Trio Montalègre - La Créole Jazz Club - 31 Août 17 20:30
DESCRIPTION:La Créole Jazz Club accueille le Trio Montalègre. Philippe De
 sprez et Joël Larochelle entourent et portent la voix d'alto de Clivia Ch
 ristina pour faire revivre les grands succès du Jazz\, de la Soul\, du Rh
 ythm &amp\; Blues et de la Bossa Nova.\n\nPhilippe Desprez (piano)\nClivia
  Christina (chant)\nJoël Larochelle (basse)
ATTACH;FMTTYPE=image/jpeg:https://bananierbleu.fr/wp-content/uploads/2017/
 08/21105751_1539205082809387_2391292365668495755_n.jpg
CATEGORIES:Concerts en Guadeloupe
LOCATION:La Créole Jazz Club\, Pointe de la Verdure\, Le Gosier\, Guadelou
 pe\, 97190\, Guadeloupe\, Guadeloupe
GEO:16.206832;-61.50359980000002
X-APPLE-STRUCTURED-LOCATION;VALUE=URI;X-ADDRESS=Pointe de la Verdure\, Le G
 osier\, Guadeloupe\, 97190\, Guadeloupe\, Guadeloupe;X-APPLE-RADIUS=100;X-
 TITLE=La Créole Jazz Club:geo:16.206832,-61.50359980000002
END:VEVENT
BEGIN:VTIMEZONE
TZID:Europe/Paris
X-LIC-LOCATION:Europe/Paris
BEGIN:DAYLIGHT
DTSTART:20170326T030000
TZOFFSETFROM:+0100
TZOFFSETTO:+0200
TZNAME:CEST
END:DAYLIGHT
END:VTIMEZONE
END:VCALENDAR